Workbook

Sheet Invoer
C2: Producten | D2: Eenheidsprijs
B3: 1 | C3: Product 1 | D3: 10
B4: 2 | C4: Product 2 | D4: 20
B5: 3 | C5: Product 3 | D5: 39.67
B6: 4 | C6: Product 4 | D6: 34.01
B7: 5 | C7: Product 5 | D7: 100
B8: 6 | C8: Product 6 | D8: 4000

Sheet Factuur
A1: Factuur
B5: Kamer | E5: id kaart
A6: Datum | C6: Producten | D6: Eenheidsprijs | E6: ID Card nummer
B7: 2 | C7: =IF($B7>=1,VLOOKUP($B7,Invoer!$B$3:$E$50,2),"") -> Product 2 | D7: =IF($B7>=1,VLOOKUP($B7,Invoer!$B$3:$E$50,3),"") -> 20 | E7: =IF($B7>=1,VLOOKUP($B7,Invoer!$B$3:$E$50,4),"") -> 0
E13: =IF($B13>=1,VLOOKUP($B13,Invoer!$B$3:$E$50,4),"")
E14: =IF($B14>=1,VLOOKUP($B14,Invoer!$B$3:$E$50,4),"")
E15: =IF($B15>=1,VLOOKUP($B15,Invoer!$B$3:$E$50,4),"")
E16: =IF($B16>=1,VLOOKUP($B16,Invoer!$B$3:$E$50,4),"")
E17: =IF($B17>=1,VLOOKUP($B17,Invoer!$B$3:$E$50,4),"")
E18: =IF($B18>=1,VLOOKUP($B18,Invoer!$B$3:$E$50,4),"")
E19: =IF($B19>=1,VLOOKUP($B19,Invoer!$B$3:$E$50,4),"")
E20: =IF($B20>=1,VLOOKUP($B20,Invoer!$B$3:$E$50,4),"")
E21: =IF($B21>=1,VLOOKUP($B21,Invoer!$B$3:$E$50,4),"")
E22: =IF($B22>=1,VLOOKUP($B22,Invoer!$B$3:$E$50,4),"")
E23: =IF($B23>=1,VLOOKUP($B23,Invoer!$B$3:$E$50,4),"")
E24: =IF($B24>=1,VLOOKUP($B24,Invoer!$B$3:$E$50,4),"")
... E36: =IF($B36>=1,VLOOKUP($B36,Invoer!$B$3:$E$50,4),"")
C38: http://www.martonline.org
