Workbook

Sheet Spelerslijst
F2: maandag | G2: donderdag
A3: 1 | B3: A | C3: speler 1 | D3: 1.05
A4: 2 | B4: B | C4: speler 2 | D4: 0.78
A5: 3 | B5: C | C5: speler 3 | D5: 0.65
A6: 4 | B6: D | C6: speler 4 | D6: 0.83
A7: 5 | B7: E | C7: speler 5 | D7: 1.27
A8: 6 | B8: F | C8: speler 6 | D8: 1.23
A9: 7 | B9: G | C9: speler 7 | D9: 0.62
A10: 8 | B10: H | C10: speler 8 | D10: 0.95
A11: 9 | B11: I | C11: speler 9 | D11: 1.629
A12: 10 | B12: J | C12: speler 10 | D12: 1.24
A13: 11 | B13: K | C13: speler 11 | D13: 0.79
A14: 12 | B14: L | C14: speler 12 | D14: 1.09
... A23: 21 | B23: U | C23: speler 21 | D23: 2.14
A24: 22 | B24: V | C24: vrij
A25: 23 | B25: W | C25: W
A26: 24 | B26: X | C26: X
A27: 25 | B27: Y | C27: Y
A28: 26 | B28: Z | C28: Z

Sheet 22 spelers
A1: Wedstrijdschema Coronacompetitie Heujmansbelt
A2: 21 of 22 personen
A4: wedstr. nr. | B4: datum | C4: tijd | D4: nr. in ronde | E4: naam speler | F4: car. | G4: beurt | H4: gem | I4: punt | K4: naam speler | L4: car. | M4: beurt | N4: gem | O4: punt
A6: 21 | B6: 44413 | D6: 22 | E6: =Spelerslijst!$C$23 -> speler 21 | F6: 43 | G6: 18 | H6: =IF(G6="","",F6/G6) -> 2.3888889 | I6: 4 | J6: =COUNTA(G6:G6) -> 1 | K6: =Spelerslijst!$C$5 -> speler 3 | L6: 10 | M6: 18 | N6: =IF(M6="","",L6/M6) -> 0.55555556 | O6: 2 | P6: =COUNTA(M6:M6) -> 1
A7: 27 | B7: 44413 | D7: 28 | E7: =Spelerslijst!$C$8 -> speler 6 | F7: 25 | G7: 22 | H7: =IF(G7="","",F7/G7) -> 1.1363636 | I7: 4 | J7: =COUNTA(G7:G7) -> 1 | K7: =Spelerslijst!$C$21 -> speler 19 | L7: 18 | M7: 22 | N7: =IF(M7="","",L7/M7) -> 0.81818182 | O7: 2 | P7: =COUNTA(M7:M7) -> 1
A8: 28 | B8: 44413 | D8: 29 | E8: =Spelerslijst!$C$9 -> speler 7 | F8: 16 | G8: 35 | H8: =IF(G8="","",F8/G8) -> 0.45714286 | I8: 4 | J8: =COUNTA(G8:G8) -> 1 | K8: =Spelerslijst!$C$20 -> speler 18 | L8: 22 | M8: 35 | N8: =IF(M8="","",L8/M8) -> 0.62857143 | O8: 3 | P8: =COUNTA(M8:M8) -> 1
A9: 29 | B9: 44413 | D9: 30 | E9: =Spelerslijst!$C$10 -> speler 8 | F9: 19 | G9: 27 | H9: =IF(G9="","",F9/G9) -> 0.7037037 | I9: 4 | J9: =COUNTA(G9:G9) -> 1 | K9: =Spelerslijst!$C$19 -> speler 17 | L9: 21 | M9: 27 | N9: =IF(M9="","",L9/M9) -> 0.77777778 | O9: 2 | P9: =COUNTA(M9:M9) -> 1
A10: 32 | B10: 44413 | D10: 33 | E10: =Spelerslijst!$C$13 -> speler 11 | F10: 15 | G10: 27 | H10: =IF(G10="","",F10/G10) -> 0.55555556 | I10: 3 | J10: =COUNTA(G10:G10) -> 1 | K10: =Spelerslijst!$C$16 -> speler 14 | L10: 17 | M10: 27 | N10: =IF(M10="","",L10/M10) -> 0.62962963 | O10: 4 | P10: =COUNTA(M10:M10) -> 1 | S10: stand
A11: 136 | B11: 44413 | D11: 137 | E11: =Spelerslijst!$C$12 -> speler 10 | F11: 25 | G11: 13 | H11: =IF(G11="","",F11/G11) -> 1.9230769 | I11: 4 | J11: =COUNTA(G11:G11) -> 1 | K11: =Spelerslijst!$C$6 -> speler 4 | L11: 9 | M11: 13 | N11: =IF(M11="","",L11/M11) -> 0.69230769 | O11: 1 | P11: =COUNTA(M11:M11) -> 1 | AB11: te maken caramboles
A12: 22 | B12: 44417 | C12: 1 | D12: 23 | E12: =Spelerslijst!$C$3 -> speler 1 | F12: 21 | G12: 9 | H12: =IF(G12="","",F12/G12) -> 2.3333333 | I12: 4 | J12: =COUNTA(G12:G12) -> 1 | K12: =Spelerslijst!$C$4 -> speler 2 | L12: 17 | M12: 9 | N12: =IF(M12="","",L12/M12) -> 1.8888889 | O12: 4 | P12: =COUNTA(M12:M12) -> 1
A13: 5 | B13: 44417 | C13: 2 | D13: 6 | E13: =Spelerslijst!$C$7 -> speler 5 | F13: 24 | G13: 19 | H13: =IF(G13="","",F13/G13) -> 1.2631579 | I13: 4 | J13: =COUNTA(G13:G13) -> 1 | K13: =Spelerslijst!$C$20 -> speler 18 | L13: 12 | M13: 19 | N13: =IF(M13="","",L13/M13) -> 0.63157895 | O13: 2 | P13: =COUNTA(M13:M13) -> 1 | AB13: van 0,00 t.e.m. 0,50 | AF13: = | AG13: 15
A14: 8 | B14: 44417 | C14: 3 | D14: 9 | E14: =Spelerslijst!$C$10 -> speler 8 | F14: 19 | G14: 20 | H14: =IF(G14="","",F14/G14) -> 0.95 | I14: 4 | J14: =COUNTA(G14:G14) -> 1 | K14: =Spelerslijst!$C$17 -> speler 15 | L14: 10 | M14: 20 | N14: =IF(M14="","",L14/M14) -> 0.5 | O14: 1 | P14: =COUNTA(M14:M14) -> 1
A15: 3 | B15: 44417 | C15: 4 | D15: 4 | E15: =Spelerslijst!$C$5 -> speler 3 | F15: 14 | G15: 19 | H15: =IF(G15="","",F15/G15) -> 0.73684211 | I15: 3 | J15: =COUNTA(G15:G15) -> 1 | K15: =Spelerslijst!$C$21 -> speler 19 | L15: 22 | M15: 19 | N15: =IF(M15="","",L15/M15) -> 1.1578947 | O15: 4 | P15: =COUNTA(M15:M15) -> 1
A16: 10 | B16: 44417 | C16: 5 | D16: 11 | E16: =Spelerslijst!$C$12 -> speler 10 | F16: 25 | G16: 14 | H16: =IF(G16="","",F16/G16) -> 1.7857143 | I16: 4 | J16: =COUNTA(G16:G16) -> 1 | K16: =Spelerslijst!$C$15 -> speler 13 | L16: 12 | M16: 14 | N16: =IF(M16="","",L16/M16) -> 0.85714286 | O16: 2 | P16: =COUNTA(M16:M16) -> 1 | AB16: van 0,51 t.e.m. 0,65 | AF16: = | AG16: 16
A17: 9 | B17: 44417 | C17: 6 | D17: 10 | E17: =Spelerslijst!$C$11 -> speler 9 | F17: 33 | G17: 21 | H17: =IF(G17="","",F17/G17) -> 1.5714286 | I17: 4 | J17: =COUNTA(G17:G17) -> 1 | K17: =Spelerslijst!$C$16 -> speler 14 | L17: 12 | M17: 21 | N17: =IF(M17="","",L17/M17) -> 0.57142857 | O17: 2 | P17: =COUNTA(M17:M17) -> 1
A18: 13 | B18: 44417 | C18: 7 | D18: 14 | E18: =Spelerslijst!$C$15 -> speler 13 | F18: 19 | G18: 10 | H18: =IF(G18="","",F18/G18) -> 1.9 | I18: 4 | J18: =COUNTA(G18:G18) -> 1 | K18: =Spelerslijst!$C$13 -> speler 11 | L18: 8 | M18: 10 | N18: =IF(M18="","",L18/M18) -> 0.8 | O18: 1 | P18: =COUNTA(M18:M18) -> 1 | S18: Spelersnaam | T18: Aantal wedstrijden | U18: Caramboles | V18: Beurten | W18: Gemiddelde | X18: perc.t.o.v. oud | Y18: Punten
A19: 15 | B19: 44417 | C19: 8 | D19: 16 | E19: =Spelerslijst!$C$17 -> speler 15 | F19: 17 | G19: 17 | H19: =IF(G19="","",F19/G19) -> 1 | I19: 3 | J19: =COUNTA(G19:G19) -> 1 | K19: =Spelerslijst!$C$11 -> speler 9 | L19: 33 | M19: 17 | N19: =IF(M19="","",L19/M19) -> 1.9411765 | O19: 4 | P19: =COUNTA(M19:M19) -> 1 | AB19: van 0,66 t.e.m. 0,80 | AF19: = | AG19: 17
A20: 19 | B20: 44417 | C20: 9 | D20: 20 | E20: =Spelerslijst!$C$21 -> speler 19 | F20: 21 | G20: 20 | H20: =IF(G20="","",F20/G20) -> 1.05 | I20: 3 | J20: =COUNTA(G20:G20) -> 1 | K20: =Spelerslijst!$C$7 -> speler 5 | L20: 24 | M20: 20 | N20: =IF(M20="","",L20/M20) -> 1.2 | O20: 4 | P20: =COUNTA(M20:M20) -> 1
A21: 4 | B21: 44420 | C21: 1 | D21: 5 | E21: =Spelerslijst!$C$6 -> speler 4 | F21: 6 | G21: 14 | H21: =IF(G21="","",F21/G21) -> 0.42857143 | I21: 1 | J21: =COUNTA(G21:G21) -> 1 | K21: =Spelerslijst!$C$22 -> speler 20 | L21: 19 | M21: 14 | N21: =IF(M21="","",L21/M21) -> 1.3571429 | O21: 4 | P21: =COUNTA(M21:M21) -> 1
A22: 17 | B22: 44420 | C22: 1 | D22: 18 | E22: =Spelerslijst!$C$19 -> speler 17 | F22: 26 | G22: 21 | H22: =IF(G22="","",F22/G22) -> 1.2380952 | I22: 3 | J22: =COUNTA(G22:G22) -> 1 | K22: =Spelerslijst!$C$9 -> speler 7 | L22: 16 | M22: 21 | N22: =IF(M22="","",L22/M22) -> 0.76190476 | O22: 4 | P22: =COUNTA(M22:M22) -> 1 | AB22: van 0,81 t.e.m. 0,90 | AF22: = | AG22: 18
A23: 6 | B23: 44420 | C23: 2 | D23: 7 | E23: =Spelerslijst!$C$8 -> speler 6 | F23: 25 | G23: 18 | H23: =IF(G23="","",F23/G23) -> 1.3888889 | I23: 4 | J23: =COUNTA(G23:G23) -> 1 | K23: =Spelerslijst!$C$19 -> speler 17 | L23: 11 | M23: 18 | N23: =IF(M23="","",L23/M23) -> 0.61111111 | O23: 1 | P23: =COUNTA(M23:M23) -> 1
A24: 25 | B24: 44420 | C24: 2 | D24: 26 | E24: =Spelerslijst!$C$6 -> speler 4 | F24: 11 | G24: 25 | H24: =IF(G24="","",F24/G24) -> 0.44 | I24: 2 | J24: =COUNTA(G24:G24) -> 1 | K24: =Spelerslijst!$C$23 -> speler 21 | L24: 43 | M24: 25 | N24: =IF(M24="","",L24/M24) -> 1.72 | O24: 4 | P24: =COUNTA(M24:M24) -> 1
A25: 39 | B25: 44420 | C25: 4 | D25: 40 | E25: =Spelerslijst!$C$20 -> speler 18 | F25: 23 | G25: 13 | H25: =IF(G25="","",F25/G25) -> 1.7692308 | I25: 4 | J25: =COUNTA(G25:G25) -> 1 | K25: =Spelerslijst!$C$10 -> speler 8 | L25: 12 | M25: 13 | N25: =IF(M25="","",L25/M25) -> 0.92307692 | O25: 2 | P25: =COUNTA(M25:M25) -> 1 | R25: 1 | S25: {=INDEX(Spelerslijst!$C$3:$C$24,MATCH(LARGE(SUMIF($E$6:$E$236,Spelerslijst!$C$3:$C$24,$I$6:$I$236)+SUMIF($K$6:$K$236,Spelerslijst!$C$3:$C$24,$O$6:$O$236)+(ROW($1:$22)/1000),ROW(A1)),SUMIF($E$6:$E$236,Spelerslijst!$C$3:$C$24,$I$6:$I$236)+SUMIF($K$6:$K$236,Spelerslijst!$C$3:$C$24,$O$6:$O$236)+(ROW($1:$22)/1000),0))} -> speler 8 | T25: =SUMIF($E$6:$E$236,S25,$J$6:$J$236)+SUMIF($K$6:$K$236,S25,$P$6:$P$236) -> 4 | U25: =SUMIF($E$6:$E$236,S25,$F$6:$F$236)+SUMIF($K$6:$K$236,S25,$L$6:$L$236) -> 69 | V25: =SUMIF($E$6:$E$236,S25,$G$6:$G$236)+SUMIF($K$6:$K$236,S25,$M$6:$M$236) -> 79 | W25: =IF(V25=0,"",U25/V25) -> 0.87341772 | X25: =IF(W25="","",(W25-INDEX(Spelerslijst!$D$3:$D$28,MATCH('22 spelers'!$S25,Spelerslijst!$C$3:$C$28,0)))/INDEX(Spelerslijst!$D$3:$D$28,MATCH('22 spelers'!$S25,Spelerslijst!$C$3:$C$28,0))) -> -0.080612925 | Y25: =SUMIF($E$6:$E$236,S25,$I$6:$I$236)+SUMIF($K$6:$K$236,S25,$O$6:$O$236) -> 14 | AB25: van 0,91 t.e.m. 0,99 | AF25: = | AG25: 19
A26: 2 | B26: 44420 | C26: 5 | D26: 3 | E26: =Spelerslijst!$C$4 -> speler 2 | F26: 17 | G26: 17 | H26: =IF(G26="","",F26/G26) -> 1 | I26: 4 | J26: =COUNTA(G26:G26) -> 1 | K26: =Spelerslijst!$C$23 -> speler 21 | L26: 37 | M26: 17 | N26: =IF(M26="","",L26/M26) -> 2.1764706 | O26: 2 | P26: =COUNTA(M26:M26) -> 1 | R26: 2 | S26: {=INDEX(Spelerslijst!$C$3:$C$24,MATCH(LARGE(SUMIF($E$6:$E$236,Spelerslijst!$C$3:$C$24,$I$6:$I$236)+SUMIF($K$6:$K$236,Spelerslijst!$C$3:$C$24,$O$6:$O$236)+(ROW($1:$22)/1000),ROW(A2)),SUMIF($E$6:$E$236,Spelerslijst!$C$3:$C$24,$I$6:$I$236)+SUMIF($K$6:$K$236,Spelerslijst!$C$3:$C$24,$O$6:$O$236)+(ROW($1:$22)/1000),0))} -> speler 6 | T26: =SUMIF($E$6:$E$236,S26,$J$6:$J$236)+SUMIF($K$6:$K$236,S26,$P$6:$P$236) -> 4 | U26: =SUMIF($E$6:$E$236,S26,$F$6:$F$236)+SUMIF($K$6:$K$236,S26,$L$6:$L$236) -> 96 | V26: =SUMIF($E$6:$E$236,S26,$G$6:$G$236)+SUMIF($K$6:$K$236,S26,$M$6:$M$236) -> 70 | W26: =IF(V26=0,"",U26/V26) -> 1.3714286 | X26: =IF(W26="","",(W26-INDEX(Spelerslijst!$D$3:$D$28,MATCH('22 spelers'!$S26,Spelerslijst!$C$3:$C$28,0)))/INDEX(Spelerslijst!$D$3:$D$28,MATCH('22 spelers'!$S26,Spelerslijst!$C$3:$C$28,0))) -> 0.11498258 | Y26: =SUMIF($E$6:$E$236,S26,$I$6:$I$236)+SUMIF($K$6:$K$236,S26,$O$6:$O$236) -> 14
A27: 18 | B27: 44420 | C27: 5 | D27: 19 | E27: =Spelerslijst!$C$20 -> speler 18 | F27: 23 | G27: 16 | H27: =IF(G27="","",F27/G27) -> 1.4375 | I27: 4 | J27: =COUNTA(G27:G27) -> 1 | K27: =Spelerslijst!$C$8 -> speler 6 | L27: 21 | M27: 16 | N27: =IF(M27="","",L27/M27) -> 1.3125 | O27: 2 | P27: =COUNTA(M27:M27) -> 1 | R27: 3 | S27: {=INDEX(Spelerslijst!$C$3:$C$24,MATCH(LARGE(SUMIF($E$6:$E$236,Spelerslijst!$C$3:$C$24,$I$6:$I$236)+SUMIF($K$6:$K$236,Spelerslijst!$C$3:$C$24,$O$6:$O$236)+(ROW($1:$22)/1000),ROW(A3)),SUMIF($E$6:$E$236,Spelerslijst!$C$3:$C$24,$I$6:$I$236)+SUMIF($K$6:$K$236,Spelerslijst!$C$3:$C$24,$O$6:$O$236)+(ROW($1:$22)/1000),0))} -> speler 18 | T27: =SUMIF($E$6:$E$236,S27,$J$6:$J$236)+SUMIF($K$6:$K$236,S27,$P$6:$P$236) -> 4 | U27: =SUMIF($E$6:$E$236,S27,$F$6:$F$236)+SUMIF($K$6:$K$236,S27,$L$6:$L$236) -> 80 | V27: =SUMIF($E$6:$E$236,S27,$G$6:$G$236)+SUMIF($K$6:$K$236,S27,$M$6:$M$236) -> 83 | W27: =IF(V27=0,"",U27/V27) -> 0.96385542 | X27: =IF(W27="","",(W27-INDEX(Spelerslijst!$D$3:$D$28,MATCH('22 spelers'!$S27,Spelerslijst!$C$3:$C$28,0)))/INDEX(Spelerslijst!$D$3:$D$28,MATCH('22 spelers'!$S27,Spelerslijst!$C$3:$C$28,0))) -> -0.1470306 | Y27: =SUMIF($E$6:$E$236,S27,$I$6:$I$236)+SUMIF($K$6:$K$236,S27,$O$6:$O$236) -> 13
A28: 14 | B28: 44420 | C28: 6 | D28: 15 | E28: =Spelerslijst!$C$16 -> speler 14 | F28: 8 | G28: 11 | H28: =IF(G28="","",F28/G28) -> 0.72727273 | I28: 1 | J28: =COUNTA(G28:G28) -> 1 | K28: =Spelerslijst!$C$12 -> speler 10 | L28: 25 | M28: 11 | N28: =IF(M28="","",L28/M28) -> 2.2727273 | O28: 4 | P28: =COUNTA(M28:M28) -> 1 | R28: 4 | S28: {=INDEX(Spelerslijst!$C$3:$C$24,MATCH(LARGE(SUMIF($E$6:$E$236,Spelerslijst!$C$3:$C$24,$I$6:$I$236)+SUMIF($K$6:$K$236,Spelerslijst!$C$3:$C$24,$O$6:$O$236)+(ROW($1:$22)/1000),ROW(A4)),SUMIF($E$6:$E$236,Spelerslijst!$C$3:$C$24,$I$6:$I$236)+SUMIF($K$6:$K$236,Spelerslijst!$C$3:$C$24,$O$6:$O$236)+(ROW($1:$22)/1000),0))} -> speler 10 | T28: =SUMIF($E$6:$E$236,S28,$J$6:$J$236)+SUMIF($K$6:$K$236,S28,$P$6:$P$236) -> 3 | U28: =SUMIF($E$6:$E$236,S28,$F$6:$F$236)+SUMIF($K$6:$K$236,S28,$L$6:$L$236) -> 75 | V28: =SUMIF($E$6:$E$236,S28,$G$6:$G$236)+SUMIF($K$6:$K$236,S28,$M$6:$M$236) -> 38 | W28: =IF(V28=0,"",U28/V28) -> 1.9736842 | X28: =IF(W28="","",(W28-INDEX(Spelerslijst!$D$3:$D$28,MATCH('22 spelers'!$S28,Spelerslijst!$C$3:$C$28,0)))/INDEX(Spelerslijst!$D$3:$D$28,MATCH('22 spelers'!$S28,Spelerslijst!$C$3:$C$28,0))) -> 0.59168081 | Y28: =SUMIF($E$6:$E$236,S28,$I$6:$I$236)+SUMIF($K$6:$K$236,S28,$O$6:$O$236) -> 12 | AB28: 1,00 en hoger | AF28: = | AG28: x 20
A29: 7 | B29: 44424 | C29: 1 | D29: 8 | E29: =Spelerslijst!$C$9 -> speler 7 | F29: 15 | G29: 26 | H29: =IF(G29="","",F29/G29) -> 0.57692308 | I29: 3 | J29: =COUNTA(G29:G29) -> 1 | K29: =Spelerslijst!$C$18 -> speler 16 | L29: 23 | M29: 26 | N29: =IF(M29="","",L29/M29) -> 0.88461538 | O29: 4 | P29: =COUNTA(M29:M29) -> 1 | R29: 5 | S29: {=INDEX(Spelerslijst!$C$3:$C$24,MATCH(LARGE(SUMIF($E$6:$E$236,Spelerslijst!$C$3:$C$24,$I$6:$I$236)+SUMIF($K$6:$K$236,Spelerslijst!$C$3:$C$24,$O$6:$O$236)+(ROW($1:$22)/1000),ROW(A5)),SUMIF($E$6:$E$236,Spelerslijst!$C$3:$C$24,$I$6:$I$236)+SUMIF($K$6:$K$236,Spelerslijst!$C$3:$C$24,$O$6:$O$236)+(ROW($1:$22)/1000),0))} -> speler 2 | T29: =SUMIF($E$6:$E$236,S29,$J$6:$J$236)+SUMIF($K$6:$K$236,S29,$P$6:$P$236) -> 3 | U29: =SUMIF($E$6:$E$236,S29,$F$6:$F$236)+SUMIF($K$6:$K$236,S29,$L$6:$L$236) -> 51 | V29: =SUMIF($E$6:$E$236,S29,$G$6:$G$236)+SUMIF($K$6:$K$236,S29,$M$6:$M$236) -> 44 | W29: =IF(V29=0,"",U29/V29) -> 1.1590909 | X29: =IF(W29="","",(W29-INDEX(Spelerslijst!$D$3:$D$28,MATCH('22 spelers'!$S29,Spelerslijst!$C$3:$C$28,0)))/INDEX(Spelerslijst!$D$3:$D$28,MATCH('22 spelers'!$S29,Spelerslijst!$C$3:$C$28,0))) -> 0.48601399 | Y29: =SUMIF($E$6:$E$236,S29,$I$6:$I$236)+SUMIF($K$6:$K$236,S29,$O$6:$O$236) -> 12
A30: 33 | B30: 44424 | C30: 2 | D30: 34 | E30: =Spelerslijst!$C$14 -> speler 12 | F30: 22 | G30: 25 | H30: =IF(G30="","",F30/G30) -> 0.88 | I30: 4 | J30: =COUNTA(G30:G30) -> 1 | K30: =Spelerslijst!$C$15 -> speler 13 | L30: 12 | M30: 25 | N30: =IF(M30="","",L30/M30) -> 0.48 | O30: 2 | P30: =COUNTA(M30:M30) -> 1 | R30: 6 | S30: {=INDEX(Spelerslijst!$C$3:$C$24,MATCH(LARGE(SUMIF($E$6:$E$236,Spelerslijst!$C$3:$C$24,$I$6:$I$236)+SUMIF($K$6:$K$236,Spelerslijst!$C$3:$C$24,$O$6:$O$236)+(ROW($1:$22)/1000),ROW(A6)),SUMIF($E$6:$E$236,Spelerslijst!$C$3:$C$24,$I$6:$I$236)+SUMIF($K$6:$K$236,Spelerslijst!$C$3:$C$24,$O$6:$O$236)+(ROW($1:$22)/1000),0))} -> speler 7 | T30: =SUMIF($E$6:$E$236,S30,$J$6:$J$236)+SUMIF($K$6:$K$236,S30,$P$6:$P$236) -> 3 | U30: =SUMIF($E$6:$E$236,S30,$F$6:$F$236)+SUMIF($K$6:$K$236,S30,$L$6:$L$236) -> 47 | V30: =SUMIF($E$6:$E$236,S30,$G$6:$G$236)+SUMIF($K$6:$K$236,S30,$M$6:$M$236) -> 82 | W30: =IF(V30=0,"",U30/V30) -> 0.57317073 | X30: =IF(W30="","",(W30-INDEX(Spelerslijst!$D$3:$D$28,MATCH('22 spelers'!$S30,Spelerslijst!$C$3:$C$28,0)))/INDEX(Spelerslijst!$D$3:$D$28,MATCH('22 spelers'!$S30,Spelerslijst!$C$3:$C$28,0))) -> -0.075531078 | Y30: =SUMIF($E$6:$E$236,S30,$I$6:$I$236)+SUMIF($K$6:$K$236,S30,$O$6:$O$236) -> 11
A31: 26 | B31: 44424 | C31: 3 | D31: 27 | E31: =Spelerslijst!$C$7 -> speler 5 | F31: 18 | G31: 30 | H31: =IF(G31="","",F31/G31) -> 0.6 | I31: 2 | J31: =COUNTA(G31:G31) -> 1 | K31: =Spelerslijst!$C$22 -> speler 20 | L31: 19 | M31: 30 | N31: =IF(M31="","",L31/M31) -> 0.63333333 | O31: 4 | P31: =COUNTA(M31:M31) -> 1 | R31: 7 | S31: {=INDEX(Spelerslijst!$C$3:$C$24,MATCH(LARGE(SUMIF($E$6:$E$236,Spelerslijst!$C$3:$C$24,$I$6:$I$236)+SUMIF($K$6:$K$236,Spelerslijst!$C$3:$C$24,$O$6:$O$236)+(ROW($1:$22)/1000),ROW(A7)),SUMIF($E$6:$E$236,Spelerslijst!$C$3:$C$24,$I$6:$I$236)+SUMIF($K$6:$K$236,Spelerslijst!$C$3:$C$24,$O$6:$O$236)+(ROW($1:$22)/1000),0))} -> speler 21 | T31: =SUMIF($E$6:$E$236,S31,$J$6:$J$236)+SUMIF($K$6:$K$236,S31,$P$6:$P$236) -> 3 | U31: =SUMIF($E$6:$E$236,S31,$F$6:$F$236)+SUMIF($K$6:$K$236,S31,$L$6:$L$236) -> 123 | V31: =SUMIF($E$6:$E$236,S31,$G$6:$G$236)+SUMIF($K$6:$K$236,S31,$M$6:$M$236) -> 60 | W31: =IF(V31=0,"",U31/V31) -> 2.05 | X31: =IF(W31="","",(W31-INDEX(Spelerslijst!$D$3:$D$28,MATCH('22 spelers'!$S31,Spelerslijst!$C$3:$C$28,0)))/INDEX(Spelerslijst!$D$3:$D$28,MATCH('22 spelers'!$S31,Spelerslijst!$C$3:$C$28,0))) -> -0.042056075 | Y31: =SUMIF($E$6:$E$236,S31,$I$6:$I$236)+SUMIF($K$6:$K$236,S31,$O$6:$O$236) -> 10
A32: 64 | B32: 44424 | C32: 4 | D32: 65 | E32: =Spelerslijst!$C$3 -> speler 1 | F32: 17 | G32: 14 | H32: =IF(G32="","",F32/G32) -> 1.2142857 | I32: 2 | J32: =COUNTA(G32:G32) -> 1 | K32: =Spelerslijst!$C$8 -> speler 6 | L32: 25 | M32: 14 | N32: =IF(M32="","",L32/M32) -> 1.7857143 | O32: 4 | P32: =COUNTA(M32:M32) -> 1 | R32: 8 | S32: {=INDEX(Spelerslijst!$C$3:$C$24,MATCH(LARGE(SUMIF($E$6:$E$236,Spelerslijst!$C$3:$C$24,$I$6:$I$236)+SUMIF($K$6:$K$236,Spelerslijst!$C$3:$C$24,$O$6:$O$236)+(ROW($1:$22)/1000),ROW(A8)),SUMIF($E$6:$E$236,Spelerslijst!$C$3:$C$24,$I$6:$I$236)+SUMIF($K$6:$K$236,Spelerslijst!$C$3:$C$24,$O$6:$O$236)+(ROW($1:$22)/1000),0))} -> speler 5 | T32: =SUMIF($E$6:$E$236,S32,$J$6:$J$236)+SUMIF($K$6:$K$236,S32,$P$6:$P$236) -> 3 | U32: =SUMIF($E$6:$E$236,S32,$F$6:$F$236)+SUMIF($K$6:$K$236,S32,$L$6:$L$236) -> 66 | V32: =SUMIF($E$6:$E$236,S32,$G$6:$G$236)+SUMIF($K$6:$K$236,S32,$M$6:$M$236) -> 69 | W32: =IF(V32=0,"",U32/V32) -> 0.95652174 | X32: =IF(W32="","",(W32-INDEX(Spelerslijst!$D$3:$D$28,MATCH('22 spelers'!$S32,Spelerslijst!$C$3:$C$28,0)))/INDEX(Spelerslijst!$D$3:$D$28,MATCH('22 spelers'!$S32,Spelerslijst!$C$3:$C$28,0))) -> -0.24683328 | Y32: =SUMIF($E$6:$E$236,S32,$I$6:$I$236)+SUMIF($K$6:$K$236,S32,$O$6:$O$236) -> 10
A33: 11 | B33: 44424 | C33: 5 | D33: 12 | E33: =Spelerslijst!$C$13 -> speler 11 | F33: 17 | G33: 31 | H33: =IF(G33="","",F33/G33) -> 0.5483871 | I33: 4 | J33: =COUNTA(G33:G33) -> 1 | K33: =Spelerslijst!$C$14 -> speler 12 | L33: 15 | M33: 31 | N33: =IF(M33="","",L33/M33) -> 0.48387097 | O33: 2 | P33: =COUNTA(M33:M33) -> 1 | R33: 9 | S33: {=INDEX(Spelerslijst!$C$3:$C$24,MATCH(LARGE(SUMIF($E$6:$E$236,Spelerslijst!$C$3:$C$24,$I$6:$I$236)+SUMIF($K$6:$K$236,Spelerslijst!$C$3:$C$24,$O$6:$O$236)+(ROW($1:$22)/1000),ROW(A9)),SUMIF($E$6:$E$236,Spelerslijst!$C$3:$C$24,$I$6:$I$236)+SUMIF($K$6:$K$236,Spelerslijst!$C$3:$C$24,$O$6:$O$236)+(ROW($1:$22)/1000),0))} -> speler 19 | T33: =SUMIF($E$6:$E$236,S33,$J$6:$J$236)+SUMIF($K$6:$K$236,S33,$P$6:$P$236) -> 3 | U33: =SUMIF($E$6:$E$236,S33,$F$6:$F$236)+SUMIF($K$6:$K$236,S33,$L$6:$L$236) -> 61 | V33: =SUMIF($E$6:$E$236,S33,$G$6:$G$236)+SUMIF($K$6:$K$236,S33,$M$6:$M$236) -> 61 | W33: =IF(V33=0,"",U33/V33) -> 1 | X33: =IF(W33="","",(W33-INDEX(Spelerslijst!$D$3:$D$28,MATCH('22 spelers'!$S33,Spelerslijst!$C$3:$C$28,0)))/INDEX(Spelerslijst!$D$3:$D$28,MATCH('22 spelers'!$S33,Spelerslijst!$C$3:$C$28,0))) -> -0.10714286 | Y33: =SUMIF($E$6:$E$236,S33,$I$6:$I$236)+SUMIF($K$6:$K$236,S33,$O$6:$O$236) -> 9
A34: 44 | B34: 44424 | C34: 6 | D34: 45 | E34: =Spelerslijst!$C$4 -> speler 2 | F34: 17 | G34: 18 | H34: =IF(G34="","",F34/G34) -> 0.94444444 | I34: 4 | J34: =COUNTA(G34:G34) -> 1 | K34: =Spelerslijst!$C$5 -> speler 3 | L34: 15 | M34: 18 | N34: =IF(M34="","",L34/M34) -> 0.83333333 | O34: 3 | P34: =COUNTA(M34:M34) -> 1 | R34: 10 | S34: {=INDEX(Spelerslijst!$C$3:$C$24,MATCH(LARGE(SUMIF($E$6:$E$236,Spelerslijst!$C$3:$C$24,$I$6:$I$236)+SUMIF($K$6:$K$236,Spelerslijst!$C$3:$C$24,$O$6:$O$236)+(ROW($1:$22)/1000),ROW(A10)),SUMIF($E$6:$E$236,Spelerslijst!$C$3:$C$24,$I$6:$I$236)+SUMIF($K$6:$K$236,Spelerslijst!$C$3:$C$24,$O$6:$O$236)+(ROW($1:$22)/1000),0))} -> speler 20 | T34: =SUMIF($E$6:$E$236,S34,$J$6:$J$236)+SUMIF($K$6:$K$236,S34,$P$6:$P$236) -> 2 | U34: =SUMIF($E$6:$E$236,S34,$F$6:$F$236)+SUMIF($K$6:$K$236,S34,$L$6:$L$236) -> 38 | V34: =SUMIF($E$6:$E$236,S34,$G$6:$G$236)+SUMIF($K$6:$K$236,S34,$M$6:$M$236) -> 44 | W34: =IF(V34=0,"",U34/V34) -> 0.86363636 | X34: =IF(W34="","",(W34-INDEX(Spelerslijst!$D$3:$D$28,MATCH('22 spelers'!$S34,Spelerslijst!$C$3:$C$28,0)))/INDEX(Spelerslijst!$D$3:$D$28,MATCH('22 spelers'!$S34,Spelerslijst!$C$3:$C$28,0))) -> -0.1187384 | Y34: =SUMIF($E$6:$E$236,S34,$I$6:$I$236)+SUMIF($K$6:$K$236,S34,$O$6:$O$236) -> 8
A35: 16 | B35: 44424 | C35: 7 | D35: 17 | E35: =Spelerslijst!$C$18 -> speler 16 | F35: 22 | G35: 19 | H35: =IF(G35="","",F35/G35) -> 1.1578947 | I35: 3 | J35: =COUNTA(G35:G35) -> 1 | K35: =Spelerslijst!$C$10 -> speler 8 | L35: 19 | M35: 19 | N35: =IF(M35="","",L35/M35) -> 1 | O35: 4 | P35: =COUNTA(M35:M35) -> 1 | R35: 11 | S35: {=INDEX(Spelerslijst!$C$3:$C$24,MATCH(LARGE(SUMIF($E$6:$E$236,Spelerslijst!$C$3:$C$24,$I$6:$I$236)+SUMIF($K$6:$K$236,Spelerslijst!$C$3:$C$24,$O$6:$O$236)+(ROW($1:$22)/1000),ROW(A11)),SUMIF($E$6:$E$236,Spelerslijst!$C$3:$C$24,$I$6:$I$236)+SUMIF($K$6:$K$236,Spelerslijst!$C$3:$C$24,$O$6:$O$236)+(ROW($1:$22)/1000),0))} -> speler 13 | T35: =SUMIF($E$6:$E$236,S35,$J$6:$J$236)+SUMIF($K$6:$K$236,S35,$P$6:$P$236) -> 3 | U35: =SUMIF($E$6:$E$236,S35,$F$6:$F$236)+SUMIF($K$6:$K$236,S35,$L$6:$L$236) -> 43 | V35: =SUMIF($E$6:$E$236,S35,$G$6:$G$236)+SUMIF($K$6:$K$236,S35,$M$6:$M$236) -> 49 | W35: =IF(V35=0,"",U35/V35) -> 0.87755102 | X35: =IF(W35="","",(W35-INDEX(Spelerslijst!$D$3:$D$28,MATCH('22 spelers'!$S35,Spelerslijst!$C$3:$C$28,0)))/INDEX(Spelerslijst!$D$3:$D$28,MATCH('22 spelers'!$S35,Spelerslijst!$C$3:$C$28,0))) -> -0.095308226 | Y35: =SUMIF($E$6:$E$236,S35,$I$6:$I$236)+SUMIF($K$6:$K$236,S35,$O$6:$O$236) -> 8
A36: 31 | B36: 44427 | C36: 1 | D36: 32 | E36: =Spelerslijst!$C$12 -> speler 10 | H36: =IF(G36="","",F36/G36) | J36: =COUNTA(G36:G36) -> 0 | K36: =Spelerslijst!$C$17 -> speler 15 | N36: =IF(M36="","",L36/M36) | P36: =COUNTA(M36:M36) -> 0 | R36: 12 | S36: {=INDEX(Spelerslijst!$C$3:$C$24,MATCH(LARGE(SUMIF($E$6:$E$236,Spelerslijst!$C$3:$C$24,$I$6:$I$236)+SUMIF($K$6:$K$236,Spelerslijst!$C$3:$C$24,$O$6:$O$236)+(ROW($1:$22)/1000),ROW(A12)),SUMIF($E$6:$E$236,Spelerslijst!$C$3:$C$24,$I$6:$I$236)+SUMIF($K$6:$K$236,Spelerslijst!$C$3:$C$24,$O$6:$O$236)+(ROW($1:$22)/1000),0))} -> speler 11 | T36: =SUMIF($E$6:$E$236,S36,$J$6:$J$236)+SUMIF($K$6:$K$236,S36,$P$6:$P$236) -> 3 | U36: =SUMIF($E$6:$E$236,S36,$F$6:$F$236)+SUMIF($K$6:$K$236,S36,$L$6:$L$236) -> 40 | V36: =SUMIF($E$6:$E$236,S36,$G$6:$G$236)+SUMIF($K$6:$K$236,S36,$M$6:$M$236) -> 68 | W36: =IF(V36=0,"",U36/V36) -> 0.58823529 | X36: =IF(W36="","",(W36-INDEX(Spelerslijst!$D$3:$D$28,MATCH('22 spelers'!$S36,Spelerslijst!$C$3:$C$28,0)))/INDEX(Spelerslijst!$D$3:$D$28,MATCH('22 spelers'!$S36,Spelerslijst!$C$3:$C$28,0))) -> -0.25539836 | Y36: =SUMIF($E$6:$E$236,S36,$I$6:$I$236)+SUMIF($K$6:$K$236,S36,$O$6:$O$236) -> 8
A37: 24 | B37: 44427 | C37: 2 | D37: 25 | E37: =Spelerslijst!$C$5 -> speler 3 | H37: =IF(G37="","",F37/G37) | J37: =COUNTA(G37:G37) -> 0 | K37: =Spelerslijst!$C$3 -> speler 1 | N37: =IF(M37="","",L37/M37) | P37: =COUNTA(M37:M37) -> 0 | R37: 13 | S37: {=INDEX(Spelerslijst!$C$3:$C$24,MATCH(LARGE(SUMIF($E$6:$E$236,Spelerslijst!$C$3:$C$24,$I$6:$I$236)+SUMIF($K$6:$K$236,Spelerslijst!$C$3:$C$24,$O$6:$O$236)+(ROW($1:$22)/1000),ROW(A13)),SUMIF($E$6:$E$236,Spelerslijst!$C$3:$C$24,$I$6:$I$236)+SUMIF($K$6:$K$236,Spelerslijst!$C$3:$C$24,$O$6:$O$236)+(ROW($1:$22)/1000),0))} -> speler 9 | T37: =SUMIF($E$6:$E$236,S37,$J$6:$J$236)+SUMIF($K$6:$K$236,S37,$P$6:$P$236) -> 2 | U37: =SUMIF($E$6:$E$236,S37,$F$6:$F$236)+SUMIF($K$6:$K$236,S37,$L$6:$L$236) -> 66 | V37: =SUMIF($E$6:$E$236,S37,$G$6:$G$236)+SUMIF($K$6:$K$236,S37,$M$6:$M$236) -> 38 | W37: =IF(V37=0,"",U37/V37) -> 1.7368421 | X37: =IF(W37="","",(W37-INDEX(Spelerslijst!$D$3:$D$28,MATCH('22 spelers'!$S37,Spelerslijst!$C$3:$C$28,0)))/INDEX(Spelerslijst!$D$3:$D$28,MATCH('22 spelers'!$S37,Spelerslijst!$C$3:$C$28,0))) -> 0.066201415 | Y37: =SUMIF($E$6:$E$236,S37,$I$6:$I$236)+SUMIF($K$6:$K$236,S37,$O$6:$O$236) -> 8
A38: 35 | B38: 44427 | C38: 3 | D38: 36 | E38: =Spelerslijst!$C$16 -> speler 14 | H38: =IF(G38="","",F38/G38) | J38: =COUNTA(G38:G38) -> 0 | K38: =Spelerslijst!$C$14 -> speler 12 | N38: =IF(M38="","",L38/M38) | P38: =COUNTA(M38:M38) -> 0 | R38: 14 | S38: {=INDEX(Spelerslijst!$C$3:$C$24,MATCH(LARGE(SUMIF($E$6:$E$236,Spelerslijst!$C$3:$C$24,$I$6:$I$236)+SUMIF($K$6:$K$236,Spelerslijst!$C$3:$C$24,$O$6:$O$236)+(ROW($1:$22)/1000),ROW(A14)),SUMIF($E$6:$E$236,Spelerslijst!$C$3:$C$24,$I$6:$I$236)+SUMIF($K$6:$K$236,Spelerslijst!$C$3:$C$24,$O$6:$O$236)+(ROW($1:$22)/1000),0))} -> speler 3 | T38: =SUMIF($E$6:$E$236,S38,$J$6:$J$236)+SUMIF($K$6:$K$236,S38,$P$6:$P$236) -> 3 | U38: =SUMIF($E$6:$E$236,S38,$F$6:$F$236)+SUMIF($K$6:$K$236,S38,$L$6:$L$236) -> 39 | V38: =SUMIF($E$6:$E$236,S38,$G$6:$G$236)+SUMIF($K$6:$K$236,S38,$M$6:$M$236) -> 55 | W38: =IF(V38=0,"",U38/V38) -> 0.70909091 | X38: =IF(W38="","",(W38-INDEX(Spelerslijst!$D$3:$D$28,MATCH('22 spelers'!$S38,Spelerslijst!$C$3:$C$28,0)))/INDEX(Spelerslijst!$D$3:$D$28,MATCH('22 spelers'!$S38,Spelerslijst!$C$3:$C$28,0))) -> 0.090909091 | Y38: =SUMIF($E$6:$E$236,S38,$I$6:$I$236)+SUMIF($K$6:$K$236,S38,$O$6:$O$236) -> 8
A39: 36 | B39: 44427 | C39: 4 | D39: 37 | E39: =Spelerslijst!$C$17 -> speler 15 | H39: =IF(G39="","",F39/G39) | J39: =COUNTA(G39:G39) -> 0 | K39: =Spelerslijst!$C$13 -> speler 11 | N39: =IF(M39="","",L39/M39) | P39: =COUNTA(M39:M39) -> 0 | R39: 15 | S39: {=INDEX(Spelerslijst!$C$3:$C$24,MATCH(LARGE(SUMIF($E$6:$E$236,Spelerslijst!$C$3:$C$24,$I$6:$I$236)+SUMIF($K$6:$K$236,Spelerslijst!$C$3:$C$24,$O$6:$O$236)+(ROW($1:$22)/1000),ROW(A15)),SUMIF($E$6:$E$236,Spelerslijst!$C$3:$C$24,$I$6:$I$236)+SUMIF($K$6:$K$236,Spelerslijst!$C$3:$C$24,$O$6:$O$236)+(ROW($1:$22)/1000),0))} -> speler 16 | T39: =SUMIF($E$6:$E$236,S39,$J$6:$J$236)+SUMIF($K$6:$K$236,S39,$P$6:$P$236) -> 2 | U39: =SUMIF($E$6:$E$236,S39,$F$6:$F$236)+SUMIF($K$6:$K$236,S39,$L$6:$L$236) -> 45 | V39: =SUMIF($E$6:$E$236,S39,$G$6:$G$236)+SUMIF($K$6:$K$236,S39,$M$6:$M$236) -> 45 | W39: =IF(V39=0,"",U39/V39) -> 1 | X39: =IF(W39="","",(W39-INDEX(Spelerslijst!$D$3:$D$28,MATCH('22 spelers'!$S39,Spelerslijst!$C$3:$C$28,0)))/INDEX(Spelerslijst!$D$3:$D$28,MATCH('22 spelers'!$S39,Spelerslijst!$C$3:$C$28,0))) -> -0.12663755 | Y39: =SUMIF($E$6:$E$236,S39,$I$6:$I$236)+SUMIF($K$6:$K$236,S39,$O$6:$O$236) -> 7
A40: 37 | B40: 44427 | C40: 5 | D40: 38 | E40: =Spelerslijst!$C$18 -> speler 16 | H40: =IF(G40="","",F40/G40) | J40: =COUNTA(G40:G40) -> 0 | K40: =Spelerslijst!$C$12 -> speler 10 | N40: =IF(M40="","",L40/M40) | P40: =COUNTA(M40:M40) -> 0 | R40: 16 | S40: {=INDEX(Spelerslijst!$C$3:$C$24,MATCH(LARGE(SUMIF($E$6:$E$236,Spelerslijst!$C$3:$C$24,$I$6:$I$236)+SUMIF($K$6:$K$236,Spelerslijst!$C$3:$C$24,$O$6:$O$236)+(ROW($1:$22)/1000),ROW(A16)),SUMIF($E$6:$E$236,Spelerslijst!$C$3:$C$24,$I$6:$I$236)+SUMIF($K$6:$K$236,Spelerslijst!$C$3:$C$24,$O$6:$O$236)+(ROW($1:$22)/1000),0))} -> speler 14 | T40: =SUMIF($E$6:$E$236,S40,$J$6:$J$236)+SUMIF($K$6:$K$236,S40,$P$6:$P$236) -> 3 | U40: =SUMIF($E$6:$E$236,S40,$F$6:$F$236)+SUMIF($K$6:$K$236,S40,$L$6:$L$236) -> 37 | V40: =SUMIF($E$6:$E$236,S40,$G$6:$G$236)+SUMIF($K$6:$K$236,S40,$M$6:$M$236) -> 59 | W40: =IF(V40=0,"",U40/V40) -> 0.62711864 | X40: =IF(W40="","",(W40-INDEX(Spelerslijst!$D$3:$D$28,MATCH('22 spelers'!$S40,Spelerslijst!$C$3:$C$28,0)))/INDEX(Spelerslijst!$D$3:$D$28,MATCH('22 spelers'!$S40,Spelerslijst!$C$3:$C$28,0))) -> -0.064002024 | Y40: =SUMIF($E$6:$E$236,S40,$I$6:$I$236)+SUMIF($K$6:$K$236,S40,$O$6:$O$236) -> 7
A41: 38 | B41: 44427 | C41: 6 | D41: 39 | E41: =Spelerslijst!$C$19 -> speler 17 | H41: =IF(G41="","",F41/G41) | J41: =COUNTA(G41:G41) -> 0 | K41: =Spelerslijst!$C$11 -> speler 9 | N41: =IF(M41="","",L41/M41) | P41: =COUNTA(M41:M41) -> 0 | R41: 17 | S41: {=INDEX(Spelerslijst!$C$3:$C$24,MATCH(LARGE(SUMIF($E$6:$E$236,Spelerslijst!$C$3:$C$24,$I$6:$I$236)+SUMIF($K$6:$K$236,Spelerslijst!$C$3:$C$24,$O$6:$O$236)+(ROW($1:$22)/1000),ROW(A17)),SUMIF($E$6:$E$236,Spelerslijst!$C$3:$C$24,$I$6:$I$236)+SUMIF($K$6:$K$236,Spelerslijst!$C$3:$C$24,$O$6:$O$236)+(ROW($1:$22)/1000),0))} -> speler 17 | T41: =SUMIF($E$6:$E$236,S41,$J$6:$J$236)+SUMIF($K$6:$K$236,S41,$P$6:$P$236) -> 3 | U41: =SUMIF($E$6:$E$236,S41,$F$6:$F$236)+SUMIF($K$6:$K$236,S41,$L$6:$L$236) -> 58 | V41: =SUMIF($E$6:$E$236,S41,$G$6:$G$236)+SUMIF($K$6:$K$236,S41,$M$6:$M$236) -> 66 | W41: =IF(V41=0,"",U41/V41) -> 0.87878788 | X41: =IF(W41="","",(W41-INDEX(Spelerslijst!$D$3:$D$28,MATCH('22 spelers'!$S41,Spelerslijst!$C$3:$C$28,0)))/INDEX(Spelerslijst!$D$3:$D$28,MATCH('22 spelers'!$S41,Spelerslijst!$C$3:$C$28,0))) -> -0.34418815 | Y41: =SUMIF($E$6:$E$236,S41,$I$6:$I$236)+SUMIF($K$6:$K$236,S41,$O$6:$O$236) -> 6
A42: 41 | B42: 44427 | C42: 7 | D42: 42 | E42: =Spelerslijst!$C$22 -> speler 20 | H42: =IF(G42="","",F42/G42) | J42: =COUNTA(G42:G42) -> 0 | K42: =Spelerslijst!$C$8 -> speler 6 | N42: =IF(M42="","",L42/M42) | P42: =COUNTA(M42:M42) -> 0 | R42: 18 | S42: {=INDEX(Spelerslijst!$C$3:$C$24,MATCH(LARGE(SUMIF($E$6:$E$236,Spelerslijst!$C$3:$C$24,$I$6:$I$236)+SUMIF($K$6:$K$236,Spelerslijst!$C$3:$C$24,$O$6:$O$236)+(ROW($1:$22)/1000),ROW(A18)),SUMIF($E$6:$E$236,Spelerslijst!$C$3:$C$24,$I$6:$I$236)+SUMIF($K$6:$K$236,Spelerslijst!$C$3:$C$24,$O$6:$O$236)+(ROW($1:$22)/1000),0))} -> speler 12 | T42: =SUMIF($E$6:$E$236,S42,$J$6:$J$236)+SUMIF($K$6:$K$236,S42,$P$6:$P$236) -> 2 | U42: =SUMIF($E$6:$E$236,S42,$F$6:$F$236)+SUMIF($K$6:$K$236,S42,$L$6:$L$236) -> 37 | V42: =SUMIF($E$6:$E$236,S42,$G$6:$G$236)+SUMIF($K$6:$K$236,S42,$M$6:$M$236) -> 56 | W42: =IF(V42=0,"",U42/V42) -> 0.66071429 | X42: =IF(W42="","",(W42-INDEX(Spelerslijst!$D$3:$D$28,MATCH('22 spelers'!$S42,Spelerslijst!$C$3:$C$28,0)))/INDEX(Spelerslijst!$D$3:$D$28,MATCH('22 spelers'!$S42,Spelerslijst!$C$3:$C$28,0))) -> -0.3938401 | Y42: =SUMIF($E$6:$E$236,S42,$I$6:$I$236)+SUMIF($K$6:$K$236,S42,$O$6:$O$236) -> 6
...

Sheet gespeeld
B1: =A2 -> Altena, Albert Jan (21) | C1: =A3 -> Bakker, Willem (17) | D1: =A4 -> Bolks, Harry (16) | E1: =A5 -> Eggengoor, Hilbert (18) | F1: =A6 -> Ekkel, Mans (25) | G1: =A7 -> Flier, Jan (25) | H1: =A8 -> Godeke, Gerrit (16) | I1: =A9 -> Hankamp, Dick (19) | J1: =A10 -> Hankamp, Eddy (33) | K1: =A11 -> Holtvlüwer, Jan Henk (25) | L1: =A12 -> Lubbers, Bert (17) | M1: =A13 -> Meulenkamp, Arjan (22) | N1: =A14 -> Meulenkamp, Bernhard (19) | O1: =A15 -> Muis, Johannes (17) | P1: =A16 -> Ravenshorst, Marinus (18) | Q1: =A17 -> Reinders, Henk (23) | R1: =A18 -> Timmerman, Hans (27) | S1: =A19 -> Tromer, Ad (23) | T1: =A20 -> Veneberg, Dick (22) | U1: =A21 -> Veneman, Henk (19) | V1: =A22 -> Wind, Arie (43) | W1: =U3 -> 0
A2: Altena, Albert Jan (21) | B2: x | C2: 44417 | G2: 44455 | X2: =(COUNTA(B2:W2))-1 -> 2 | Y2: =B24+X2 -> 4
A3: Bakker, Willem (17) | B3: 44417 | C3: x | D3: 44455 | V3: 44420 | X3: =(COUNTA(B3:W3))-1 -> 3 | Y3: =C24+X3 -> 6
A4: Bolks, Harry (16) | C4: 44455 | D4: x | T4: 44417 | V4: 44413 | X4: =(COUNTA(B4:W4))-1 -> 3 | Y4: =D24+X4 -> 6
A5: Eggengoor, Hilbert (18) | E5: x | K5: 44413 | U5: 44420 | V5: 44420 | X5: =(COUNTA(B5:W5))-1 -> 3 | Y5: =E24+X5 -> 6
A6: Ekkel, Mans (25) | F6: x | S6: 44417 | T6: 44417 | U6: 44455 | X6: =(COUNTA(B6:W6))-1 -> 3 | Y6: =F24+X6 -> 6
A7: Flier, Jan (25) | B7: 44455 | G7: x | R7: 44420 | S7: 44420 | T7: 44413 | X7: =(COUNTA(B7:W7))-1 -> 4 | Y7: =G24+X7 -> 8
A8: Godeke, Gerrit (16) | H8: x | Q8: 44455 | R8: 44420 | S8: 44413 | X8: =(COUNTA(B8:W8))-1 -> 3 | Y8: =H24+X8 -> 6
A9: Hankamp, Dick (19) | I9: x | P9: 44417 | Q9: 44455 | R9: 44413 | S9: 44420 | X9: =(COUNTA(B9:W9))-1 -> 4 | Y9: =I24+X9 -> 8
A10: Hankamp, Eddy (33) | J10: x | O10: 44417 | P10: 44417 | X10: =(COUNTA(B10:W10))-1 -> 2 | Y10: =J24+X10 -> 4
A11: Holtvlüwer, Jan Henk (25) | E11: 44413 | K11: x | N11: 44417 | O11: 44420 | X11: =(COUNTA(B11:W11))-1 -> 3 | Y11: =K24+X11 -> 6
A12: Lubbers, Bert (17) | L12: x | M12: 44455 | N12: 44417 | O12: 44413 | X12: =(COUNTA(B12:W12))-1 -> 3 | Y12: =L24+X12 -> 6
A13: Meulenkamp, Arjan (22) | L13: 44455 | M13: x | N13: 44455 | X13: =(COUNTA(B13:W13))-1 -> 2 | Y13: =M24+X13 -> 4
A14: Meulenkamp, Bernhard (19) | K14: 44417 | L14: 44417 | M14: 44455 | N14: x | X14: =(COUNTA(B14:W14))-1 -> 3 | Y14: =O24+X14 -> 6
A15: Muis, Johannes (17) | J15: 44417 | K15: 44420 | L15: 44413 | O15: x | X15: =(COUNTA(B15:W15))-1 -> 3 | Y15: =P24+X15 -> 5
A16: Ravenshorst, Marinus (18) | I16: 44417 | J16: 44417 | P16: x | X16: =(COUNTA(B16:W16))-1 -> 2 | Y16: =Q24+X16 -> 4
A17: Reinders, Henk (23) | H17: 44455 | I17: 44455 | Q17: x | X17: =(COUNTA(B17:W17))-1 -> 2 | Y17: =Q25+X17 -> 2
A18: Timmerman, Hans (27) | G18: 44420 | H18: 44420 | I18: 44413 | R18: x | X18: =(COUNTA(B18:W18))-1 -> 3 | Y18: =Q26+X18 -> 3
A19: Tromer, Ad (23) | F19: 44417 | G19: 44420 | H19: 44413 | I19: 44420 | S19: x | X19: =(COUNTA(B19:W19))-1 -> 4 | Y19: =Q27+X19 -> 4
A20: Veneberg, Dick (22) | D20: 44417 | F20: 44417 | G20: 44413 | T20: x | X20: =(COUNTA(B20:W20))-1 -> 3 | Y20: =Q28+X20 -> 3
A21: Veneman, Henk (19) | E21: 44420 | F21: 44455 | U21: x | X21: =(COUNTA(B21:W21))-1 -> 2 | Y21: =Q29+X21 -> 2
A22: Wind, Arie (43) | C22: 44420 | D22: 44413 | E22: 44420 | V22: x | X22: =(COUNTA(B22:W22))-1 -> 3 | Y22: =Q30+X22 -> 3
A23: V | W23: x | X23: =(COUNTA(B23:W23))-1 -> 0 | Y23: =Q31+X23 -> 0
B24: =(COUNTA(B2:B23))-1 -> 2 | C24: =(COUNTA(C2:C23))-1 -> 3 | D24: =(COUNTA(D2:D23))-1 -> 3 | E24: =(COUNTA(E2:E23))-1 -> 3 | F24: =(COUNTA(F2:F23))-1 -> 3 | G24: =(COUNTA(G2:G23))-1 -> 4 | H24: =(COUNTA(H2:H23))-1 -> 3 | I24: =(COUNTA(I2:I23))-1 -> 4 | ... W24: =(COUNTA(W2:W23))-1 -> 0
X28: =SUM(X2:X27)/2 -> 30
F29: 21 spelers x 20 wedstrijden is 210 partijen
F30: aantal gespeelde partijen | K30: =(COUNTA(B2:W23)-22)/2 -> 30
F31: nog te spelen partijen. | K31: =COUNTBLANK(B2:V22)/2 -> 180

Sheet Blad2
C5: Speelrooster voor 21 - 22 spelers
B7: 1 | C7: A: A-V B-U C-T D-S E-R F-Q G-P H-O I-N J-M K-L | D7: 11
B8: 12 | C8: B: V-L M-K N-J O- I P- H Q- G R- F S- E T- D U- C A- B | D8: 22
B9: 23 | C9: C: B-V C- A D-U E-T F-S G-R H-Q I-P J-O K-N L-M | D9: 33
B10: 34 | C10: D: V-M N-L O-K P-J Q- I R- H S- G T- F U- E A- D B- C | D10: 44
B11: 45 | C11: E: C-V D- B E- A F-U G-T H-S I-R J-Q K-P L-O M-N | D11: 55
B12: 56 | C12: F: V-N O-M P-L Q-K R-J S- I T- H U- G A- F B- E C- D | D12: 66
B13: 67 | C13: G: D-V E- C F- B G- A H-U I-T J-S K-R L-Q M-P N-O | D13: 77
B14: 78 | C14: H: V-O P-N Q-M R-L S-K T-J U- I A- H B- G C- F D- E | D14: 88
B15: 89 | C15: I: E-V F- D G- C H- B I- A J-U K-T L-S M-R N-Q O-P | D15: 99
B16: 100 | C16: J: V-P Q-O R-N S-M T-L U-K A-J B- I C- H D- G E- F | D16: 110
B17: 111 | C17: K: F-V G- E H- D I- C J- B K- A L-U M-T N-S O-R P-Q | D17: 121
B18: 122 | C18: L: V-Q R-P S-O T-N U-M A-L B-K C-J D- I E- H F- G | D18: 132
... B27: 221 | C27: U: K-V L-J M- I N- H O- G P- F Q- E R- D S- C T- B U- A | D27: 231

Sheet Blad1
B3: https://www.bommeltje.nl/website/biljarten/speelroosters/
B11: Speelroosters voor
B12: de onderlinge competitie
B13: Onderstaand treft u een aantal speelroosters aan voor een bepaald aantal spelers. Maak een lijst van alle spelers en geef ze een nummer, beginnend bij de speler met het beste moyenne, hij/zij krijg nummer 1, en eindigend bij de speler met het laagste moyenne. Hij/zij krijgt het laatste nummer. Deze indeling blijft de hele competitie hetzelfde. Kies het juiste spelrooster aan de hand van het aantal spelende biljarters en u hebt een indeling per week (het nummer vóór de wedstrijden geeft de ronden aan – iedere week een ronde).
B17: Heeft u bijv. 11 actieve spelers, dan neemt u het rooster van 11-12 spelers en u schrapt alle partijen waarin het laatste nummer (in dit geval 12) voorkomt. Het nadeel van een oneven aantal spelers is wel dat er iedere week iemand niet of iemand dubbel moet spelen. Maar goed, dat is niet anders.
B18: Iedere wedstrijdleider wil zijn competitie zo spannend mogelijk laten eindigen. Dat betekent dat de partijen van de beste spelers zo laat mogelijk in ‘t seizoen worden gespeeld. Maar, hoe doet u dat? Simpel. Na iedere week maakt u een stand (ranglijst) op. Zoek uit wie de laagste speler is (qua stand), die nog niet tegen de nummer 1 van dat moment heeft gespeeld. Zoek de ronde waarin die wedstrijd staat en die ronde wordt als eerstvolgende gespeeld. Doe dit iedere week en u zult gegarandeerd een spannend einde van de competitie krijgen. Succes!
B20: Speelrooster voor 3 - 4 spelers
B22: 1: 1- 4 2- 3
B23: 2: 4- 3 1- 2
B24: 3: 2- 4 3- 1
B26: Speelrooster voor 5 - 6 spelers
B28: 1: 1- 6 2- 5 3- 4
... B284: 29: 15-30 16-14 17-13 18-12 19-11 20-10 21- 9 22- 8 23- 7 24- 6 25- 5 26- 4 27- 3 28- 2 29- 1
