Workbook

Sheet Spelerslijst
F2: maandag | G2: donderdag
A3: 1 | B3: A | C3: speler 1 | D3: 1.05 | F3: wel | G3: wel
A4: 2 | B4: B | C4: speler 2 | D4: 0.65 | F4: niet | G4: wel
A5: 3 | B5: C | C5: speler 3 | D5: 0.83 | F5: wel | G5: wel
A6: 4 | B6: D | C6: speler 4 | D6: 1.23 | F6: wel | G6: wel
A7: 5 | B7: E | C7: speler 5 | D7: 0.62 | F7: wel | G7: wel
A8: 6 | B8: F | C8: speler 6 | D8: 0.95 | F8: wel | G8: wel
A9: 7 | B9: G | C9: speler 7 | D9: 1.24 | F9: wel | G9: wel
A10: 8 | B10: H | C10: speler 8 | D10: 0.79 | F10: wel | G10: wel
A11: 9 | B11: I | C11: speler 9 | D11: 0.94 | F11: wel | G11: wel
A12: 10 | B12: J | C12: speler 10 | D12: 1.18 | F12: wel | G12: wel
A13: 11 | B13: K | C13: speler 11 | D13: 0.67 | F13: wel | G13: wel
A14: 12 | B14: L | C14: speler 12 | D14: 0.86 | F14: wel | G14: wel
... A19: 17 | B19: Q | C19: speler 16 | D19: 2.14 | F19: wel | G19: wel
A20: 18 | B20: R | C20: vrij
A21: 19 | B21: S | C21: S
A22: 20 | B22: T | C22: T
A23: 21 | B23: U | C23: U
A24: 22 | B24: V | C24: V
A25: 23 | B25: W | C25: W
A26: 24 | B26: X | C26: X
A27: 25 | B27: Y | C27: Y
A28: 26 | B28: Z | C28: Z

Sheet 18 spelers
A1: Wedstrijdschema Coronacompetitie Heujmansbelt
A2: 17 personen
A4: wedstr. nr. | B4: datum | C4: tijd | D4: nr. in ronde | F4: car. | G4: beurt | H4: punt | J4: naam speler | K4: car. | L4: beurt | M4: punt | AG4: uitgangsschema
A6: 1 | B6: 44084 | C6: 19.30 | D6: 2 | E6: =Spelerslijst!$C$4 -> speler 2 | F6: 16 | G6: 8 | H6: 4 | I6: =COUNTA(G6:G6) -> 1 | J6: =Spelerslijst!$C$19 -> speler 16 | K6: 12 | L6: 8 | M6: 0 | N6: =COUNTA(L6:L6) -> 1 | AF6: 1 | AG6: 1-18 | AH6: 2-17 | AI6: 3-16 | AJ6: 4-15 | AK6: 5-14 | AL6: 6-13 | AM6: 7-12 | AN6: 8-11 | AO6: 9-10
A7: 13 | B7: 44084 | C7: 19.30 | D7: 3 | E7: =Spelerslijst!$C$17 -> speler 14 | F7: 22 | G7: 24 | H7: 4 | I7: =COUNTA(G7:G7) -> 1 | J7: =Spelerslijst!$C$7 -> speler 5 | K7: 10 | L7: 24 | M7: 2 | N7: =COUNTA(L7:L7) -> 1 | AF7: 2 | AG7: 18-10 | AH7: 11-9 | AI7: 12-8 | AJ7: 13-7 | AK7: 14-6 | AL7: 15-5 | AM7: 16-4 | AN7: 17-3 | AO7: 1-2
A8: 2 | B8: 44084 | C8: 20.00 | D8: 3 | E8: =Spelerslijst!$C$5 -> speler 3 | F8: 18 | G8: 10 | H8: 4 | I8: =COUNTA(G8:G8) -> 1 | J8: =Spelerslijst!$C$18 -> speler 15 | K8: 6 | L8: 10 | M8: 1 | N8: =COUNTA(L8:L8) -> 1 | AF8: 3 | AG8: 2-18 | AH8: 3-1 | AI8: 4-17 | AJ8: 5-16 | AK8: 6-15 | AL8: 7-14 | AM8: 8-13 | AN8: 9-12 | AO8: 10-11
A9: 3 | B9: 44084 | C9: 20.30 | D9: 4 | E9: =Spelerslijst!$C$6 -> speler 4 | F9: 25 | G9: 8 | H9: 4 | I9: =COUNTA(G9:G9) -> 1 | J9: =Spelerslijst!$C$17 -> speler 14 | K9: 7 | L9: 8 | M9: 1 | N9: =COUNTA(L9:L9) -> 1 | AF9: 4 | AG9: 18-11 | AH9: 12-10 | AI9: 13-9 | AJ9: 14-8 | AK9: 15-7 | AL9: 16-6 | AM9: 17-5 | AN9: 1-4 | AO9: 2-3
A10: 4 | B10: 44084 | C10: 21.00 | D10: 5 | E10: =Spelerslijst!$C$7 -> speler 5 | F10: 10 | G10: 18 | H10: 2 | I10: =COUNTA(G10:G10) -> 1 | J10: =Spelerslijst!$C$16 -> speler 13 | K10: 27 | L10: 18 | M10: 4 | N10: =COUNTA(L10:L10) -> 1 | AF10: 5 | AG10: 3-18 | AH10: 4-2 | AI10: 5-1 | AJ10: 6-17 | AK10: 7-16 | AL10: 8-15 | AM10: 9-14 | AN10: 10-13 | AO10: 11-12
A11: 7 | B11: 44091 | C11: 19.30 | D11: 8 | E11: =Spelerslijst!$C$10 -> speler 8 | F11: 17 | G11: 35 | H11: 4 | I11: =COUNTA(G11:G11) -> 1 | J11: =Spelerslijst!$C$13 -> speler 11 | K11: 13 | L11: 35 | M11: 2 | N11: =COUNTA(L11:L11) -> 1 | AF11: 6 | AG11: 18-12 | AH11: 13-11 | AI11: 14-10 | AJ11: 15-9 | AK11: 16-8 | AL11: 17-7 | AM11: 1-6 | AN11: 2-5 | AO11: 3-4
A12: 8 | B12: 44091 | C12: 20.00 | D12: 9 | E12: =Spelerslijst!$C$11 -> speler 9 | F12: 17 | G12: 26 | H12: 3 | I12: =COUNTA(G12:G12) -> 1 | J12: =Spelerslijst!$C$12 -> speler 10 | K12: 24 | L12: 26 | M12: 4 | N12: =COUNTA(L12:L12) -> 1 | AF12: 7 | AG12: 4-18 | AH12: 5-3 | AI12: 6-2 | AJ12: 7-1 | AK12: 8-17 | AL12: 9-16 | AM12: 10-15 | AN12: 11-14 | AO12: 12-13
A13: 9 | B13: 44091 | C13: 20.30 | D13: 7 | E13: =Spelerslijst!$C$13 -> speler 11 | F13: 11 | G13: 25 | H13: 2 | I13: =COUNTA(G13:G13) -> 1 | J13: =Spelerslijst!$C$11 -> speler 9 | K13: 19 | L13: 25 | M13: 4 | N13: =COUNTA(L13:L13) -> 1 | AF13: 8 | AG13: 18-13 | AH13: 14-12 | AI13: 15-11 | AJ13: 16-10 | AK13: 17-9 | AL13: 1-8 | AM13: 2-7 | AN13: 3-6 | AO13: 4-5
A14: 10 | B14: 44091 | C14: 21.00 | D14: 6 | E14: =Spelerslijst!$C$14 -> speler 12 | F14: 18 | G14: 13 | H14: 4 | I14: =COUNTA(G14:G14) -> 1 | J14: =Spelerslijst!$C$10 -> speler 8 | K14: 7 | L14: 13 | M14: 1 | N14: =COUNTA(L14:L14) -> 1 | AF14: 9 | AG14: 5-18 | AH14: 6-4 | AI14: 7-3 | AJ14: 8-2 | AK14: 9-1 | AL14: 10-17 | AM14: 11-16 | AN14: 12-15 | AO14: 13-14
A15: 12 | B15: 44091 | C15: 22.00 | D15: 4 | E15: =Spelerslijst!$C$16 -> speler 13 | F15: 27 | G15: 22 | H15: 4 | I15: =COUNTA(G15:G15) -> 1 | J15: =Spelerslijst!$C$8 -> speler 6 | K15: 13 | L15: 22 | M15: 2 | N15: =COUNTA(L15:L15) -> 1 | AF15: 10 | AG15: 18-14 | AH15: 15-13 | AI15: 16-12 | AJ15: 17-11 | AK15: 1-10 | AL15: 2-9 | AM15: 3-8 | AN15: 4-7 | AO15: 5-6
A16: 14 | B16: 44098 | C16: 20.00 | D16: 2 | E16: =Spelerslijst!$C$18 -> speler 15 | F16: 19 | G16: 21 | H16: 4 | I16: =COUNTA(G16:G16) -> 1 | J16: =Spelerslijst!$C$6 -> speler 4 | K16: 18 | L16: 21 | M16: 2 | N16: =COUNTA(L16:L16) -> 1 | AF16: 11 | AG16: 6-18 | AH16: 7-5 | AI16: 8-4 | AJ16: 9-3 | AK16: 10-2 | AL16: 11-1 | AM16: 12-17 | AN16: 13-16 | AO16: 14-15
A17: 63 | B17: 44098 | C17: 20.00 | D17: 8 | E17: =Spelerslijst!$C$5 -> speler 3 | F17: 17 | G17: 22 | H17: 3 | I17: =COUNTA(G17:G17) -> 1 | J17: =Spelerslijst!$C$8 -> speler 6 | K17: 19 | L17: 22 | M17: 4 | N17: =COUNTA(L17:L17) -> 1 | AF17: 12 | AG17: 18-15 | AH17: 16-14 | AI17: 17-13 | AJ17: 1-12 | AK17: 2-11 | AL17: 3-10 | AM17: 4-9 | AN17: 5-8 | AO17: 6-7
A18: 15 | B18: 44098 | C18: 20.30 | D18: 2 | E18: =Spelerslijst!$C$19 -> speler 16 | F18: 42 | G18: 20 | H18: 3 | I18: =COUNTA(G18:G18) -> 1 | J18: =Spelerslijst!$C$5 -> speler 3 | K18: 18 | L18: 20 | M18: 4 | N18: =COUNTA(L18:L18) -> 1 | AF18: 13 | AG18: 7-18 | AH18: 8-6 | AI18: 9-5 | AJ18: 10-4 | AK18: 11-3 | AL18: 12-2 | AM18: 13-1 | AN18: 14-17 | AO18: 15-16
A19: 16 | B19: 44098 | C19: 21.00 | D19: 3 | E19: =Spelerslijst!$C$3 -> speler 1 | F19: 21 | G19: 14 | H19: 4 | I19: =COUNTA(G19:G19) -> 1 | J19: =Spelerslijst!$C$4 -> speler 2 | K19: 13 | L19: 14 | M19: 2 | N19: =COUNTA(L19:L19) -> 1 | AF19: 14 | AG19: 18-16 | AH19: 17-15 | AI19: 1-14 | AJ19: 2-13 | AK19: 3-12 | AL19: 4-11 | AM19: 5-10 | AN19: 6-9 | AO19: 7-8
A20: 18 | B20: 44098 | C20: 22.00 | D20: 6 | E20: =Spelerslijst!$C$6 -> speler 4 | F20: 14 | G20: 11 | H20: 1 | I20: =COUNTA(G20:G20) -> 1 | J20: =Spelerslijst!$C$19 -> speler 16 | K20: 43 | L20: 11 | M20: 4 | N20: =COUNTA(L20:L20) -> 1 | AF20: 15 | AG20: 8-18 | AH20: 9-7 | AI20: 10-6 | AJ20: 11-5 | AK20: 12-4 | AL20: 13-3 | AM20: 14-2 | AN20: 15-1 | AO20: 16-17
A21: 21 | B21: 44105 | C21: 19.00 | D21: 9 | E21: =Spelerslijst!$C$9 -> speler 7 | F21: 6 | G21: 10 | H21: 0 | I21: =COUNTA(G21:G21) -> 1 | J21: =Spelerslijst!$C$16 -> speler 13 | K21: 27 | L21: 10 | M21: 4 | N21: =COUNTA(L21:L21) -> 1 | AF21: 16 | AG21: 18-17 | AH21: 1-16 | AI21: 2-15 | AJ21: 3-14 | AK21: 4-13 | AL21: 5-12 | AM21: 6-11 | AN21: 7-10 | AO21: 8-9
A22: 23 | B22: 44105 | C22: 19.30 | D22: 8 | E22: =Spelerslijst!$C$11 -> speler 9 | F22: 19 | G22: 26 | H22: 4 | I22: =COUNTA(G22:G22) -> 1 | J22: =Spelerslijst!$C$14 -> speler 12 | K22: 18 | L22: 26 | M22: 4 | N22: =COUNTA(L22:L22) -> 1 | AF22: 17 | AG22: 9-18 | AH22: 10-8 | AI22: 11-7 | AJ22: 12-6 | AK22: 13-5 | AL22: 14-4 | AM22: 15-3 | AN22: 16-2 | AO22: 17-1
A23: 24 | B23: 44105 | C23: 20.00 | D23: 7 | E23: =Spelerslijst!$C$12 -> speler 10 | F23: 24 | G23: 23 | H23: 4 | I23: =COUNTA(G23:G23) -> 1 | J23: =Spelerslijst!$C$13 -> speler 11 | K23: 13 | L23: 23 | M23: 2 | N23: =COUNTA(L23:L23) -> 1
A24: 6 | B24: 44105 | C24: 20.30 | D24: 7 | E24: =Spelerslijst!$C$9 -> speler 7 | F24: 20 | G24: 20 | H24: 2 | I24: =COUNTA(G24:G24) -> 1 | J24: =Spelerslijst!$C$14 -> speler 12 | K24: 18 | L24: 20 | M24: 4 | N24: =COUNTA(L24:L24) -> 1
A25: 17 | B25: 44105 | C25: 20.30 | D25: 5 | E25: =Spelerslijst!$C$5 -> speler 3 | F25: 14 | G25: 13 | H25: 2 | I25: =COUNTA(G25:G25) -> 1 | J25: =Spelerslijst!$C$3 -> speler 1 | K25: 21 | L25: 13 | M25: 4 | N25: =COUNTA(L25:L25) -> 1
A26: 19 | B26: 44109 | C26: 19.00 | D26: 7 | E26: =Spelerslijst!$C$7 -> speler 5 | F26: 16 | G26: 20 | H26: 4 | I26: =COUNTA(G26:G26) -> 1 | J26: =Spelerslijst!$C$18 -> speler 15 | K26: 8 | L26: 20 | M26: 1 | N26: =COUNTA(L26:L26) -> 1
A27: 25 | B27: 44109 | C27: 19.00 | D27: 5 | E27: =Spelerslijst!$C$14 -> speler 12 | F27: 15 | G27: 19 | H27: 2 | I27: =COUNTA(G27:G27) -> 1 | J27: =Spelerslijst!$C$12 -> speler 10 | K27: 24 | L27: 19 | M27: 4 | N27: =COUNTA(L27:L27) -> 1
A28: 29 | B28: 44109 | C28: 20.30 | D28: 2 | E28: =Spelerslijst!$C$18 -> speler 15 | F28: 19 | G28: 23 | H28: 4 | I28: =COUNTA(G28:G28) -> 1 | J28: =Spelerslijst!$C$8 -> speler 6 | K28: 15 | L28: 23 | M28: 2 | N28: =COUNTA(L28:L28) -> 1
A29: 20 | B29: 44112 | C29: 19.30 | D29: 8 | E29: =Spelerslijst!$C$8 -> speler 6 | F29: 15 | G29: 17 | H29: 2 | I29: =COUNTA(G29:G29) -> 1 | J29: =Spelerslijst!$C$17 -> speler 14 | K29: 22 | L29: 17 | M29: 4 | N29: =COUNTA(L29:L29) -> 1
A30: 28 | B30: 44112 | C30: 20.00 | D30: 2 | E30: =Spelerslijst!$C$17 -> speler 14 | F30: 14 | G30: 20 | H30: 2 | I30: =COUNTA(G30:G30) -> 1 | J30: =Spelerslijst!$C$9 -> speler 7 | K30: 25 | L30: 20 | M30: 4 | N30: =COUNTA(L30:L30) -> 1
A31: 33 | B31: 44112 | C31: 20.30 | D31: 7 | E31: =Spelerslijst!$C$6 -> speler 4 | F31: 25 | G31: 22 | H31: 4 | I31: =COUNTA(G31:G31) -> 1 | J31: =Spelerslijst!$C$4 -> speler 2 | K31: 8 | L31: 22 | M31: 1 | N31: =COUNTA(L31:L31) -> 1
A32: 55 | B32: 44112 | C32: 20.30 | D32: 4 | E32: =Spelerslijst!$C$13 -> speler 11 | F32: 9 | G32: 21 | H32: 1 | I32: =COUNTA(G32:G32) -> 1 | J32: =Spelerslijst!$C$16 -> speler 13 | K32: 27 | L32: 21 | M32: 4 | N32: =COUNTA(L32:L32) -> 1
A33: 35 | B33: 44116 | C33: 19.00 | D33: 9 | E33: =Spelerslijst!$C$8 -> speler 6 | F33: 14 | G33: 22 | H33: 2 | I33: =COUNTA(G33:G33) -> 1 | J33: =Spelerslijst!$C$19 -> speler 16 | K33: 43 | L33: 22 | M33: 4 | N33: =COUNTA(L33:L33) -> 1
A34: 31 | B34: 44116 | C34: 20.30 | D34: 4 | E34: =Spelerslijst!$C$3 -> speler 1 | F34: 21 | G34: 15 | H34: 4 | I34: =COUNTA(G34:G34) -> 1 | J34: =Spelerslijst!$C$6 -> speler 4 | K34: 25 | L34: 15 | M34: 3 | N34: =COUNTA(L34:L34) -> 1
A35: 30 | B35: 44357 | C35: 19.00 | D35: 3 | E35: =Spelerslijst!$C$19 -> speler 16 | F35: 43 | G35: 16 | H35: 4 | I35: =COUNTA(G35:G35) -> 1 | J35: =Spelerslijst!$C$7 -> speler 5 | K35: 16 | L35: 16 | M35: 4 | N35: =COUNTA(L35:L35) -> 1
A36: 27 | B36: 44357 | C36: 19.30 | D36: 3 | E36: =Spelerslijst!$C$16 -> speler 13 | F36: 27 | G36: 14 | H36: 4 | I36: =COUNTA(G36:G36) -> 1 | J36: =Spelerslijst!$C$10 -> speler 8 | K36: 12 | L36: 14 | M36: 2 | N36: =COUNTA(L36:L36) -> 1
A37: 51 | B37: 44357 | C37: 20.00 | D37: 8 | E37: =Spelerslijst!$C$9 -> speler 7 | F37: 25 | G37: 24 | H37: 4 | I37: =COUNTA(G37:G37) -> 1 | J37: =Spelerslijst!$C$3 -> speler 1 | K37: 14 | L37: 24 | M37: 2 | N37: =COUNTA(L37:L37) -> 1
A38: 93 | B38: 44357 | C38: 20.30 | D38: 5 | E38: =Spelerslijst!$C$5 -> speler 3 | F38: 9 | G38: 20 | H38: 1 | I38: =COUNTA(G38:G38) -> 1 | J38: =Spelerslijst!$C$12 -> speler 10 | K38: 24 | L38: 20 | M38: 4 | N38: =COUNTA(L38:L38) -> 1
A39: 111 | B39: 44357 | C39: 21.00 | D39: 2 | E39: =Spelerslijst!$C$8 -> speler 6 | F39: 18 | G39: 19 | H39: 3 | I39: =COUNTA(G39:G39) -> 1 | J39: =Spelerslijst!$C$11 -> speler 9 | K39: 19 | L39: 19 | M39: 4 | N39: =COUNTA(L39:L39) -> 1
A40: 36 | B40: 44361 | D40: 9 | E40: =Spelerslijst!$C$9 -> speler 7 | F40: 25 | G40: 17 | H40: 4 | I40: =COUNTA(G40:G40) -> 1 | J40: =Spelerslijst!$C$18 -> speler 15 | K40: 9 | L40: 17 | M40: 1 | N40: =COUNTA(L40:L40) -> 1
A41: 37 | B41: 44361 | D41: 8 | E41: =Spelerslijst!$C$10 -> speler 8 | F41: 17 | G41: 13 | H41: 4 | I41: =COUNTA(G41:G41) -> 1 | J41: =Spelerslijst!$C$17 -> speler 14 | K41: 16 | L41: 13 | M41: 2 | N41: =COUNTA(L41:L41) -> 1
A42: 40 | B42: 44361 | D42: 5 | E42: =Spelerslijst!$C$13 -> speler 11 | F42: 5 | G42: 19 | H42: 1 | I42: =COUNTA(G42:G42) -> 1 | J42: =Spelerslijst!$C$14 -> speler 12 | K42: 18 | L42: 19 | M42: 4 | N42: =COUNTA(L42:L42) -> 1
A43: 42 | B43: 44361 | D43: 2 | E43: =Spelerslijst!$C$16 -> speler 13 | F43: 27 | G43: 15 | H43: 4 | I43: =COUNTA(G43:G43) -> 1 | J43: =Spelerslijst!$C$12 -> speler 10 | K43: 20 | L43: 15 | M43: 2 | N43: =COUNTA(L43:L43) -> 1
A44: 69 | B44: 44361 | D44: 3 | E44: =Spelerslijst!$C$8 -> speler 6 | F44: 11 | G44: 17 | H44: 2 | I44: =COUNTA(G44:G44) -> 1 | J44: =Spelerslijst!$C$6 -> speler 4 | K44: 25 | L44: 17 | M44: 4 | N44: =COUNTA(L44:L44) -> 1
A45: 95 | B45: 44361 | D45: 3 | E45: =Spelerslijst!$C$7 -> speler 5 | F45: 8 | G45: 17 | H45: 1 | I45: =COUNTA(G45:G45) -> 1 | J45: =Spelerslijst!$C$10 -> speler 8 | K45: 17 | L45: 17 | M45: 4 | N45: =COUNTA(L45:L45) -> 1
A46: 34 | B46: 44364 | D46: 8 | E46: =Spelerslijst!$C$7 -> speler 5 | F46: 7 | G46: 21 | H46: 1 | I46: =COUNTA(G46:G46) -> 1 | J46: =Spelerslijst!$C$3 -> speler 1 | K46: 21 | L46: 21 | M46: 4 | N46: =COUNTA(L46:L46) -> 1
A47: 32 | B47: 44364 | D47: 5 | E47: =Spelerslijst!$C$4 -> speler 2 | F47: 16 | G47: 20 | H47: 4 | I47: =COUNTA(G47:G47) -> 1 | J47: =Spelerslijst!$C$5 -> speler 3 | K47: 13 | L47: 20 | M47: 2 | N47: =COUNTA(L47:L47) -> 1
A48: 54 | B48: 44364 | D48: 5 | E48: =Spelerslijst!$C$12 -> speler 10 | F48: 21 | G48: 13 | H48: 2 | I48: =COUNTA(G48:G48) -> 1 | J48: =Spelerslijst!$C$17 -> speler 14 | K48: 22 | L48: 13 | M48: 4 | N48: =COUNTA(L48:L48) -> 1
A49: 92 | B49: 44364 | D49: 6 | E49: =Spelerslijst!$C$4 -> speler 2 | F49: 16 | G49: 31 | H49: 4 | I49: =COUNTA(G49:G49) -> 1 | J49: =Spelerslijst!$C$13 -> speler 11 | K49: 7 | L49: 31 | M49: 1 | N49: =COUNTA(L49:L49) -> 1
A50: 60 | B50: 44364 | D50: 5 | E50: =Spelerslijst!$C$19 -> speler 16 | F50: 41 | G50: 24 | H50: 3 | I50: =COUNTA(G50:G50) -> 1 | J50: =Spelerslijst!$C$11 -> speler 9 | K50: 19 | L50: 24 | M50: 4 | N50: =COUNTA(L50:L50) -> 1
A51: 61 | B51: 44368 | D51: 6 | E51: =Spelerslijst!$C$3 -> speler 1 | F51: 21 | G51: 15 | H51: 4 | I51: =COUNTA(G51:G51) -> 1 | J51: =Spelerslijst!$C$10 -> speler 8 | K51: 10 | L51: 15 | M51: 2 | N51: =COUNTA(L51:L51) -> 1
A52: 38 | B52: 44368 | D52: 7 | E52: =Spelerslijst!$C$11 -> speler 9 | F52: 11 | G52: 24 | H52: 2 | I52: =COUNTA(G52:G52) -> 1 | J52: =Spelerslijst!$C$16 -> speler 13 | K52: 27 | L52: 24 | M52: 4 | N52: =COUNTA(L52:L52) -> 1
A53: 74 | B53: 44368 | D53: 9 | E53: =Spelerslijst!$C$18 -> speler 15 | F53: 19 | G53: 15 | H53: 4 | I53: =COUNTA(G53:G53) -> 1 | J53: =Spelerslijst!$C$14 -> speler 12 | K53: 10 | L53: 15 | M53: 1 | N53: =COUNTA(L53:L53) -> 1
A54: 70 | B54: 44368 | D54: 4 | E54: =Spelerslijst!$C$9 -> speler 7 | F54: 8 | G54: 10 | H54: 1 | I54: =COUNTA(G54:G54) -> 1 | J54: =Spelerslijst!$C$5 -> speler 3 | K54: 18 | L54: 10 | M54: 4 | N54: =COUNTA(L54:L54) -> 1
A55: 114 | B55: 44368 | D55: 6 | E55: =Spelerslijst!$C$12 -> speler 10 | F55: 20 | G55: 13 | H55: 2 | I55: =COUNTA(G55:G55) -> 1 | J55: =Spelerslijst!$C$8 -> speler 6 | K55: 19 | L55: 13 | M55: 4 | N55: =COUNTA(L55:L55) -> 1
A56: 67 | B56: 44371 | D56: 7 | E56: =Spelerslijst!$C$14 -> speler 12 | F56: 18 | G56: 13 | H56: 4 | I56: =COUNTA(G56:G56) -> 1 | J56: =Spelerslijst!$C$4 -> speler 2 | K56: 7 | L56: 13 | M56: 1 | N56: =COUNTA(L56:L56) -> 1
A57: 45 | B57: 44371 | D57: 4 | E57: =Spelerslijst!$C$19 -> speler 16 | F57: 21 | G57: 12 | H57: 1 | I57: =COUNTA(G57:G57) -> 1 | J57: =Spelerslijst!$C$9 -> speler 7 | K57: 25 | L57: 12 | M57: 4 | N57: =COUNTA(L57:L57) -> 1
A58: 44 | B58: 44371 | D58: 3 | E58: =Spelerslijst!$C$18 -> speler 15 | F58: 18 | G58: 21 | H58: 3 | I58: =COUNTA(G58:G58) -> 1 | J58: =Spelerslijst!$C$10 -> speler 8 | K58: 17 | L58: 21 | M58: 4 | N58: =COUNTA(L58:L58) -> 1
A59: 43 | B59: 44371 | D59: 2 | E59: =Spelerslijst!$C$17 -> speler 14 | F59: 7 | G59: 9 | H59: 1 | I59: =COUNTA(G59:G59) -> 1 | J59: =Spelerslijst!$C$11 -> speler 9 | K59: 19 | L59: 9 | M59: 4 | N59: =COUNTA(L59:L59) -> 1
A60: 66 | B60: 44371 | D60: 8 | E60: =Spelerslijst!$C$13 -> speler 11 | F60: 15 | G60: 28 | H60: 3 | I60: =COUNTA(G60:G60) -> 1 | J60: =Spelerslijst!$C$5 -> speler 3 | K60: 18 | L60: 28 | M60: 4 | N60: =COUNTA(L60:L60) -> 1
A61: 46 | B61: 44375 | D61: 5 | E61: =Spelerslijst!$C$3 -> speler 1 | F61: 21 | G61: 31 | H61: 4 | I61: =COUNTA(G61:G61) -> 1 | J61: =Spelerslijst!$C$8 -> speler 6 | K61: 19 | L61: 31 | M61: 4 | N61: =COUNTA(L61:L61) -> 1
A62: 65 | B62: 44375 | D62: 9 | E62: =Spelerslijst!$C$12 -> speler 10 | F62: 20 | G62: 18 | H62: 2 | I62: =COUNTA(G62:G62) -> 1 | J62: =Spelerslijst!$C$6 -> speler 4 | K62: 25 | L62: 18 | M62: 4 | N62: =COUNTA(L62:L62) -> 1
A63: 49 | B63: 44375 | D63: 9 | E63: =Spelerslijst!$C$7 -> speler 5 | F63: 16 | G63: 21 | H63: 4 | I63: =COUNTA(G63:G63) -> 1 | J63: =Spelerslijst!$C$5 -> speler 3 | K63: 18 | L63: 21 | M63: 4 | N63: =COUNTA(L63:L63) -> 1
A64: 75 | B64: 44375 | D64: 9 | E64: =Spelerslijst!$C$19 -> speler 16 | F64: 43 | G64: 14 | H64: 4 | I64: =COUNTA(G64:G64) -> 1 | J64: =Spelerslijst!$C$13 -> speler 11 | K64: 7 | L64: 14 | M64: 1 | N64: =COUNTA(L64:L64) -> 1
A65: 53 | B65: 44375 | D65: 6 | E65: =Spelerslijst!$C$11 -> speler 9 | F65: 19 | G65: 25 | H65: 4 | I65: =COUNTA(G65:G65) -> 1 | J65: =Spelerslijst!$C$18 -> speler 15 | K65: 11 | L65: 25 | M65: 2 | N65: =COUNTA(L65:L65) -> 1
A66: 57 | B66: 44375 | D66: 2 | E66: =Spelerslijst!$C$16 -> speler 13 | F66: 27 | G66: 21 | H66: 4 | I66: =COUNTA(G66:G66) -> 1 | J66: =Spelerslijst!$C$14 -> speler 12 | K66: 17 | L66: 21 | M66: 3 | N66: =COUNTA(L66:L66) -> 1
A67: 120 | B67: 44375 | E67: =Spelerslijst!$C$18 -> speler 15 | F67: 19 | G67: 17 | H67: 4 | I67: =COUNTA(G67:G67) -> 1 | J67: =Spelerslijst!$C$19 -> speler 16 | K67: 20 | L67: 17 | M67: 1 | N67: =COUNTA(L67:L67) -> 1
A68: 59 | B68: 44378 | C68: 1 | D68: 4 | E68: =Spelerslijst!$C$18 -> speler 15 | F68: 19 | G68: 11 | H68: 4 | I68: =COUNTA(G68:G68) -> 1 | J68: =Spelerslijst!$C$12 -> speler 10 | K68: 10 | L68: 11 | M68: 1 | N68: =COUNTA(L68:L68) -> 1
A69: 72 | B69: 44378 | C69: 2 | D69: 6 | E69: =Spelerslijst!$C$11 -> speler 9 | F69: 11 | G69: 18 | H69: 2 | I69: =COUNTA(G69:G69) -> 1 | J69: =Spelerslijst!$C$3 -> speler 1 | K69: 21 | L69: 18 | M69: 4 | N69: =COUNTA(L69:L69) -> 1
A70: 47 | B70: 44378 | C70: 3 | D70: 6 | E70: =Spelerslijst!$C$4 -> speler 2 | F70: 16 | G70: 20 | H70: 4 | I70: =COUNTA(G70:G70) -> 1 | J70: =Spelerslijst!$C$7 -> speler 5 | K70: 9 | L70: 20 | M70: 1 | N70: =COUNTA(L70:L70) -> 1
A71: 48 | B71: 44378 | C71: 4 | D71: 7 | E71: =Spelerslijst!$C$5 -> speler 3 | F71: 16 | G71: 21 | H71: 3 | I71: =COUNTA(G71:G71) -> 1 | J71: =Spelerslijst!$C$6 -> speler 4 | K71: 25 | L71: 21 | M71: 4 | N71: =COUNTA(L71:L71) -> 1
A72: 58 | B72: 44378 | C72: 5 | D72: 3 | E72: =Spelerslijst!$C$17 -> speler 14 | F72: 22 | G72: 20 | H72: 4 | I72: =COUNTA(G72:G72) -> 1 | J72: =Spelerslijst!$C$13 -> speler 11 | K72: 16 | L72: 20 | M72: 3 | N72: =COUNTA(L72:L72) -> 1
A73: 112 | B73: 44378 | C73: 6 | D73: 3 | E73: =Spelerslijst!$C$9 -> speler 7 | F73: 24 | G73: 23 | H73: 3 | I73: =COUNTA(G73:G73) -> 1 | J73: =Spelerslijst!$C$10 -> speler 8 | K73: 17 | L73: 23 | M73: 4 | N73: =COUNTA(L73:L73) -> 1
A74: 118 | B74: 44378 | C74: 7 | E74: =Spelerslijst!$C$16 -> speler 13 | F74: 18 | G74: 19 | H74: 2 | I74: =COUNTA(G74:G74) -> 1 | J74: =Spelerslijst!$C$4 -> speler 2 | K74: 16 | L74: 19 | M74: 4 | N74: =COUNTA(L74:L74) -> 1
A75: 52 | B75: 44378 | C75: 8 | D75: 7 | E75: =Spelerslijst!$C$10 -> speler 8 | F75: 11 | G75: 20 | H75: 2 | I75: =COUNTA(G75:G75) -> 1 | J75: =Spelerslijst!$C$19 -> speler 16 | K75: 43 | L75: 20 | M75: 4 | N75: =COUNTA(L75:L75) -> 1
A76: 98 | B76: 44382 | C76: 1 | D76: 4 | E76: =Spelerslijst!$C$11 -> speler 9 | F76: 19 | G76: 22 | H76: 4 | I76: =COUNTA(G76:G76) -> 1 | J76: =Spelerslijst!$C$7 -> speler 5 | K76: 13 | L76: 22 | M76: 2 | N76: =COUNTA(L76:L76) -> 1
A77: 79 | B77: 44382 | C77: 2 | D77: 5 | E77: =Spelerslijst!$C$6 -> speler 4 | F77: 23 | G77: 22 | H77: 3 | I77: =COUNTA(G77:G77) -> 1 | J77: =Spelerslijst!$C$9 -> speler 7 | K77: 25 | L77: 22 | M77: 4 | N77: =COUNTA(L77:L77) -> 1
A78: 76 | B78: 44382 | C78: 3 | D78: 8 | E78: =Spelerslijst!$C$3 -> speler 1 | F78: 21 | G78: 18 | H78: 4 | I78: =COUNTA(G78:G78) -> 1 | J78: =Spelerslijst!$C$12 -> speler 10 | K78: 21 | L78: 18 | M78: 2 | N78: =COUNTA(L78:L78) -> 1
A79: 101 | B79: 44382 | C79: 4 | D79: 7 | E79: =Spelerslijst!$C$14 -> speler 12 | F79: 18 | G79: 16 | H79: 4 | I79: =COUNTA(G79:G79) -> 1 | J79: =Spelerslijst!$C$17 -> speler 14 | K79: 19 | L79: 16 | M79: 2 | N79: =COUNTA(L79:L79) -> 1
A80: 82 | B80: 44382 | C80: 5 | D80: 2 | E80: =Spelerslijst!$C$10 -> speler 8 | F80: 17 | G80: 15 | H80: 4 | I80: =COUNTA(G80:G80) -> 1 | J80: =Spelerslijst!$C$6 -> speler 4 | K80: 11 | L80: 15 | M80: 1 | N80: =COUNTA(L80:L80) -> 1
A81: 85 | B81: 44382 | C81: 6 | D81: 5 | E81: =Spelerslijst!$C$13 -> speler 11 | F81: 9 | G81: 16 | H81: 1 | I81: =COUNTA(G81:G81) -> 1 | J81: =Spelerslijst!$C$3 -> speler 1 | K81: 21 | L81: 16 | M81: 4 | N81: =COUNTA(L81:L81) -> 1
A82: 97 | B82: 44382 | C82: 7 | D82: 3 | E82: =Spelerslijst!$C$10 -> speler 8 | F82: 15 | G82: 19 | H82: 3 | I82: =COUNTA(G82:G82) -> 1 | J82: =Spelerslijst!$C$8 -> speler 6 | K82: 19 | L82: 19 | M82: 4 | N82: =COUNTA(L82:L82) -> 1
A83: 115 | B83: 44385 | C83: 1 | D83: 7 | E83: =Spelerslijst!$C$13 -> speler 11 | F83: 17 | G83: 18 | H83: 4 | I83: =COUNTA(G83:G83) -> 1 | J83: =Spelerslijst!$C$7 -> speler 5 | K83: 13 | L83: 18 | M83: 2 | N83: =COUNTA(L83:L83) -> 1
A84: 89 | B84: 44385 | C84: 2 | D84: 9 | E84: =Spelerslijst!$C$18 -> speler 15 | F84: 6 | G84: 13 | H84: 1 | I84: =COUNTA(G84:G84) -> 1 | J84: =Spelerslijst!$C$16 -> speler 13 | K84: 27 | L84: 13 | M84: 4 | N84: =COUNTA(L84:L84) -> 1
A85: 50 | B85: 44385 | C85: 3 | D85: 9 | E85: =Spelerslijst!$C$8 -> speler 6 | F85: 18 | G85: 31 | H85: 3 | I85: =COUNTA(G85:G85) -> 1 | J85: =Spelerslijst!$C$4 -> speler 2 | K85: 16 | L85: 31 | M85: 4 | N85: =COUNTA(L85:L85) -> 1 | P85: stand
A86: 78 | B86: 44385 | C86: 5 | D86: 6 | E86: =Spelerslijst!$C$5 -> speler 3 | F86: 18 | G86: 27 | H86: 4 | I86: =COUNTA(G86:G86) -> 1 | J86: =Spelerslijst!$C$10 -> speler 8 | K86: 12 | L86: 27 | M86: 2 | N86: =COUNTA(L86:L86) -> 1
A87: 62 | B87: 44385 | C87: 6 | D87: 7 | E87: =Spelerslijst!$C$4 -> speler 2 | F87: 10 | G87: 15 | H87: 2 | I87: =COUNTA(G87:G87) -> 1 | J87: =Spelerslijst!$C$9 -> speler 7 | K87: 25 | L87: 15 | M87: 4 | N87: =COUNTA(L87:L87) -> 1
A88: 133 | B88: 44385 | C88: 7 | E88: =Spelerslijst!$C$16 -> speler 13 | F88: 27 | G88: 33 | H88: 4 | I88: =COUNTA(G88:G88) -> 1 | J88: =Spelerslijst!$C$6 -> speler 4 | K88: 23 | L88: 33 | M88: 3 | N88: =COUNTA(L88:L88) -> 1 | Y88: van 0,00 t.e.m. 0,50 | AC88: = | AD88: 15
A89: 88 | B89: 44389 | C89: 1 | D89: 8 | E89: =Spelerslijst!$C$16 -> speler 13 | F89: 27 | G89: 18 | H89: 4 | I89: =COUNTA(G89:G89) -> 1 | J89: =Spelerslijst!$C$17 -> speler 14 | K89: 11 | L89: 18 | M89: 1 | N89: =COUNTA(L89:L89) -> 1
A90: 108 | B90: 44389 | C90: 2 | D90: 4 | E90: =Spelerslijst!$C$5 -> speler 3 | F90: 18 | G90: 10 | H90: 4 | I90: =COUNTA(G90:G90) -> 1 | J90: =Spelerslijst!$C$14 -> speler 12 | K90: 11 | L90: 10 | M90: 2 | N90: =COUNTA(L90:L90) -> 1
A91: 126 | B91: 44389 | C91: 3 | E91: =Spelerslijst!$C$8 -> speler 6 | F91: 15 | G91: 25 | H91: 2 | I91: =COUNTA(G91:G91) -> 1 | J91: =Spelerslijst!$C$13 -> speler 11 | K91: 17 | L91: 25 | M91: 4 | N91: =COUNTA(L91:L91) -> 1 | Y91: van 0,51 t.e.m. 0,65 | AC91: = | AD91: 16
A92: 94 | B92: 44389 | C92: 4 | D92: 4 | E92: =Spelerslijst!$C$6 -> speler 4 | F92: 25 | G92: 10 | H92: 4 | I92: =COUNTA(G92:G92) -> 1 | J92: =Spelerslijst!$C$11 -> speler 9 | K92: 7 | L92: 10 | M92: 1 | N92: =COUNTA(L92:L92) -> 1
A93: 91 | B93: 44389 | C93: 5 | D93: 7 | E93: =Spelerslijst!$C$3 -> speler 1 | F93: 21 | G93: 20 | H93: 4 | I93: =COUNTA(G93:G93) -> 1 | J93: =Spelerslijst!$C$14 -> speler 12 | K93: 15 | L93: 20 | M93: 2 | N93: =COUNTA(L93:L93) -> 1 | P93: Spelersnaam | Q93: Aantal wedstrijden | R93: Caramboles | S93: Beurten | T93: Gemiddelde | U93: perc.t.o.v. oud | V93: Punten
A94: 99 | B94: 44389 | C94: 6 | D94: 5 | E94: =Spelerslijst!$C$12 -> speler 10 | F94: 24 | G94: 20 | H94: 4 | I94: =COUNTA(G94:G94) -> 1 | J94: =Spelerslijst!$C$19 -> speler 16 | K94: 35 | L94: 20 | M94: 2 | N94: =COUNTA(L94:L94) -> 1 | Y94: van 0,66 t.e.m. 0,80 | AC94: = | AD94: 17
A95: 86 | B95: 44389 | C95: 7 | D95: 6 | E95: =Spelerslijst!$C$14 -> speler 12 | F95: 17 | G95: 17 | H95: 3 | I95: =COUNTA(G95:G95) -> 1 | J95: =Spelerslijst!$C$19 -> speler 16 | K95: 43 | L95: 17 | M95: 4 | N95: =COUNTA(L95:L95) -> 1
A96: 96 | B96: 44392 | C96: 1 | D96: 2 | E96: =Spelerslijst!$C$8 -> speler 6 | F96: 4 | G96: 16 | H96: 0 | I96: =COUNTA(G96:G96) -> 1 | J96: =Spelerslijst!$C$9 -> speler 7 | K96: 25 | L96: 16 | M96: 4 | N96: =COUNTA(L96:L96) -> 1
A97: 84 | B97: 44392 | C97: 3 | D97: 4 | E97: =Spelerslijst!$C$12 -> speler 10 | F97: 19 | G97: 19 | H97: 2 | I97: =COUNTA(G97:G97) -> 1 | J97: =Spelerslijst!$C$4 -> speler 2 | K97: 16 | L97: 19 | M97: 4 | N97: =COUNTA(L97:L97) -> 1 | Y97: van 0,81 t.e.m. 0,90 | AC97: = | AD97: 18
A98: 119 | B98: 44392 | C98: 4 | E98: =Spelerslijst!$C$17 -> speler 14 | F98: 15 | G98: 14 | H98: 2 | I98: =COUNTA(G98:G98) -> 1 | J98: =Spelerslijst!$C$3 -> speler 1 | K98: 21 | L98: 14 | M98: 4 | N98: =COUNTA(L98:L98) -> 1
A99: 83 | B99: 44392 | C99: 5 | D99: 3 | E99: =Spelerslijst!$C$11 -> speler 9 | F99: 19 | G99: 20 | H99: 4 | I99: =COUNTA(G99:G99) -> 1 | J99: =Spelerslijst!$C$5 -> speler 3 | K99: 17 | L99: 20 | M99: 3 | N99: =COUNTA(L99:L99) -> 1
A100: 134 | B100: 44392 | C100: 6 | E100: =Spelerslijst!$C$17 -> speler 14 | F100: 22 | G100: 16 | H100: 4 | I100: =COUNTA(G100:G100) -> 1 | J100: =Spelerslijst!$C$5 -> speler 3 | K100: 8 | L100: 16 | M100: 1 | N100: =COUNTA(L100:L100) -> 1 | P100: {=INDEX(Spelerslijst!$C$3:$C$19,MATCH(LARGE(SUMIF($E$6:$E$112,Spelerslijst!$C$3:$C$19,$H$6:$H$112)+SUMIF($J$6:$J$112,Spelerslijst!$C$3:$C$19,$M$6:$M$112)+(ROW($1:$17)/1000),ROW(A1)),SUMIF($E$6:$E$112,Spelerslijst!$C$3:$C$19,$H$6:$H$112)+SUMIF($J$6:$J$112,Spelerslijst!$C$3:$C$19,$M$6:$M$112)+(ROW($1:$17)/1000),0))} -> speler 1 | Q100: =SUMIF($E$6:$E$129,P100,$I$6:$I$129)+SUMIF($J$6:$J$129,P100,$N$6:$N$129) -> 14 | R100: =SUMIF($E$6:$E$125,P100,$F$6:$F$125)+SUMIF($J$6:$J$125,P100,$K$6:$K$125) -> 287 | S100: =SUMIF($E$6:$E$125,P100,$G$6:$G$125)+SUMIF($J$6:$J$125,P100,$L$6:$L$125) -> 254 | T100: =IF(S100=0,"",R100/S100) -> 1.1299213 | U100: =(T100-INDEX(Spelerslijst!$D$3:$D$28,MATCH('18 spelers'!$P100,Spelerslijst!$C$3:$C$28,0)))/INDEX(Spelerslijst!$D$3:$D$28,MATCH('18 spelers'!$P100,Spelerslijst!$C$3:$C$28,0)) -> 0.076115486 | V100: =SUMIF($E$6:$E$125,P100,$H$6:$H$125)+SUMIF($J$6:$J$125,P100,$M$6:$M$125) -> 54 | Y100: van 0,91 t.e.m. 0,99 | AC100: = | AD100: 19
A101: 106 | B101: 44392 | C101: 7 | D101: 6 | E101: =Spelerslijst!$C$3 -> speler 1 | F101: 21 | G101: 15 | H101: 4 | I101: =COUNTA(G101:G101) -> 1 | J101: =Spelerslijst!$C$16 -> speler 13 | K101: 14 | L101: 15 | M101: 1 | N101: =COUNTA(L101:L101) -> 1 | P101: {=INDEX(Spelerslijst!$C$3:$C$19,MATCH(LARGE(SUMIF($E$6:$E$112,Spelerslijst!$C$3:$C$19,$H$6:$H$112)+SUMIF($J$6:$J$112,Spelerslijst!$C$3:$C$19,$M$6:$M$112)+(ROW($1:$17)/1000),ROW(A2)),SUMIF($E$6:$E$112,Spelerslijst!$C$3:$C$19,$H$6:$H$112)+SUMIF($J$6:$J$112,Spelerslijst!$C$3:$C$19,$M$6:$M$112)+(ROW($1:$17)/1000),0))} -> speler 13 | Q101: =SUMIF($E$6:$E$129,P101,$I$6:$I$129)+SUMIF($J$6:$J$129,P101,$N$6:$N$129) -> 15 | R101: =SUMIF($E$6:$E$125,P101,$F$6:$F$125)+SUMIF($J$6:$J$125,P101,$K$6:$K$125) -> 372 | S101: =SUMIF($E$6:$E$125,P101,$G$6:$G$125)+SUMIF($J$6:$J$125,P101,$L$6:$L$125) -> 283 | T101: =IF(S101=0,"",R101/S101) -> 1.3144876 | U101: =(T101-INDEX(Spelerslijst!$D$3:$D$28,MATCH('18 spelers'!$P101,Spelerslijst!$C$3:$C$28,0)))/INDEX(Spelerslijst!$D$3:$D$28,MATCH('18 spelers'!$P101,Spelerslijst!$C$3:$C$28,0)) -> -0.01903908 | V101: =SUMIF($E$6:$E$125,P101,$H$6:$H$125)+SUMIF($J$6:$J$125,P101,$M$6:$M$125) -> 53
A102: 64 | B102: 44396 | C102: 1 | D102: 9 | E102: =Spelerslijst!$C$6 -> speler 4 | F102: 25 | G102: 15 | H102: 4 | I102: =COUNTA(G102:G102) -> 1 | J102: =Spelerslijst!$C$7 -> speler 5 | K102: 12 | L102: 15 | M102: 2 | N102: =COUNTA(L102:L102) -> 1 | P102: {=INDEX(Spelerslijst!$C$3:$C$19,MATCH(LARGE(SUMIF($E$6:$E$112,Spelerslijst!$C$3:$C$19,$H$6:$H$112)+SUMIF($J$6:$J$112,Spelerslijst!$C$3:$C$19,$M$6:$M$112)+(ROW($1:$17)/1000),ROW(A3)),SUMIF($E$6:$E$112,Spelerslijst!$C$3:$C$19,$H$6:$H$112)+SUMIF($J$6:$J$112,Spelerslijst!$C$3:$C$19,$M$6:$M$112)+(ROW($1:$17)/1000),0))} -> speler 3 | Q102: =SUMIF($E$6:$E$129,P102,$I$6:$I$129)+SUMIF($J$6:$J$129,P102,$N$6:$N$129) -> 15 | R102: =SUMIF($E$6:$E$125,P102,$F$6:$F$125)+SUMIF($J$6:$J$125,P102,$K$6:$K$125) -> 238 | S102: =SUMIF($E$6:$E$125,P102,$G$6:$G$125)+SUMIF($J$6:$J$125,P102,$L$6:$L$125) -> 272 | T102: =IF(S102=0,"",R102/S102) -> 0.875 | U102: =(T102-INDEX(Spelerslijst!$D$3:$D$28,MATCH('18 spelers'!$P102,Spelerslijst!$C$3:$C$28,0)))/INDEX(Spelerslijst!$D$3:$D$28,MATCH('18 spelers'!$P102,Spelerslijst!$C$3:$C$28,0)) -> 0.054216867 | V102: =SUMIF($E$6:$E$125,P102,$H$6:$H$125)+SUMIF($J$6:$J$125,P102,$M$6:$M$125) -> 47
...

Sheet gespeeld
B1: =Spelerslijst!C3 -> speler 1 | C1: =Spelerslijst!C4 -> speler 2 | D1: =A4 -> speler 3 | E1: =A5 -> speler 4 | F1: =A6 -> speler 5 | G1: =A7 -> speler 6 | H1: =A8 -> speler 7 | I1: =A9 -> speler 8 | J1: =A10 -> speler 9 | K1: =A11 -> speler 10 | L1: =A12 -> speler 11 | M1: =A13 -> speler 12 | N1: =A14 -> speler 13 | O1: =A15 -> speler 14 | P1: =A16 -> speler 15 | Q1: =A17 -> speler 16
A2: =Spelerslijst!C3 -> speler 1 | B2: X | C2: 44463 | D2: 44470 | E2: 44481 | F2: 44364 | G2: 44375 | H2: 44357 | I2: 44368 | J2: 44378 | K2: 44381 | L2: 44381 | M2: 44389 | N2: 44392 | O2: 44392 | Q2: 44396 | R2: =(COUNTA(B2:Q2))-1 -> 14 | S2: =B18+R2 -> 28
A3: =Spelerslijst!C4 -> speler 2 | B3: 44463 | C3: X | D3: 44364 | E3: 44477 | F3: 44378 | G3: 44385 | H3: 44385 | K3: 44392 | L3: 44364 | M3: 44371 | N3: 44378 | Q3: 44449 | R3: =(COUNTA(B3:Q3))-1 -> 11 | S3: =C18+R3 -> 22
A4: =Spelerslijst!C5 -> speler 3 | B4: 44470 | C4: 44364 | D4: X | E4: 44378 | F4: 44375 | G4: 44463 | H4: 44368 | I4: 44385 | J4: 44392 | K4: 44357 | L4: 44371 | M4: 44389 | O4: 44392 | P4: 44449 | Q4: 44463 | R4: =(COUNTA(B4:Q4))-1 -> 14 | S4: =D18+R4 -> 28
A5: =Spelerslijst!C6 -> speler 4 | B5: 44481 | C5: 44477 | D5: 44378 | E5: X | F5: 44396 | G5: 44361 | H5: 44381 | I5: 44381 | J5: 44389 | K5: 44375 | N5: 44385 | O5: 44449 | P5: 44463 | Q5: 44463 | R5: =(COUNTA(B5:Q5))-1 -> 13 | S5: =E18+R5 -> 26
A6: =Spelerslijst!C7 -> speler 5 | B6: 44364 | C6: 44378 | D6: 44375 | E6: 44396 | F6: X | G6: 44396 | H6: 44396 | I6: 44361 | J6: 44381 | L6: 44385 | N6: 44449 | O6: 44449 | P6: 44474 | Q6: 44357 | R6: =(COUNTA(B6:Q6))-1 -> 13 | S6: =F18+R6 -> 26
A7: =Spelerslijst!C8 -> speler 6 | B7: 44375 | C7: 44385 | D7: 44463 | E7: 44361 | F7: 44396 | G7: X | H7: 44392 | I7: 44381 | J7: 44357 | K7: 44368 | L7: 44389 | N7: 44456 | O7: 44477 | P7: 44474 | Q7: 44481 | R7: =(COUNTA(B7:Q7))-1 -> 14 | S7: =G18+R7 -> 28
A8: =Spelerslijst!C9 -> speler 7 | B8: 44357 | C8: 44385 | D8: 44368 | E8: 44381 | F8: 44396 | G8: 44392 | H8: X | I8: 44378 | J8: 44396 | M8: 44470 | N8: 44470 | O8: 44477 | P8: 44361 | Q8: 44371 | R8: =(COUNTA(B8:Q8))-1 -> 13 | S8: =H18+R8 -> 26
A9: =Spelerslijst!C10 -> speler 8 | B9: 44368 | D9: 44385 | E9: 44381 | F9: 44361 | G9: 44381 | H9: 44378 | I9: X | L9: 44456 | M9: 44456 | N9: 44357 | O9: 44361 | P9: 44371 | Q9: 44378 | R9: =(COUNTA(B9:Q9))-1 -> 12 | S9: =I18+R9 -> 24
A10: =Spelerslijst!C11 -> speler 9 | B10: 44378 | D10: 44392 | E10: 44389 | F10: 44381 | G10: 44357 | H10: 44396 | J10: X | K10: 44456 | L10: 44456 | M10: 44470 | N10: 44368 | O10: 44371 | P10: 44375 | Q10: 44364 | R10: =(COUNTA(B10:Q10))-1 -> 13 | S10: =J18+R10 -> 26
A11: =Spelerslijst!C12 -> speler 10 | B11: 44381 | C11: 44392 | D11: 44357 | E11: 44375 | G11: 44368 | J11: 44456 | K11: X | L11: 44470 | M11: 44474 | N11: 44361 | O11: 44364 | P11: 44378 | Q11: 44389 | R11: =(COUNTA(B11:Q11))-1 -> 12 | S11: =K18+R11 -> 24
A12: =Spelerslijst!C13 -> speler 11 | B12: 44381 | C12: 44364 | D12: 44371 | F12: 44385 | G12: 44389 | I12: 44456 | J12: 44456 | K12: 44470 | L12: X | M12: 44361 | N12: 44477 | O12: 44378 | Q12: 44375 | R12: =(COUNTA(B12:Q12))-1 -> 12 | S12: =L18+R12 -> 24
A13: =Spelerslijst!C14 -> speler 12 | B13: 44389 | C13: 44371 | D13: 44389 | H13: 44470 | I13: 44456 | J13: 44470 | K13: 44474 | L13: 44361 | M13: X | N13: 44375 | O13: 44381 | P13: 44368 | Q13: 44389 | R13: =(COUNTA(B13:Q13))-1 -> 12 | S13: =M18+R13 -> 24
A14: =Spelerslijst!C16 -> speler 13 | B14: 44392 | C14: 44378 | E14: 44385 | F14: 44449 | G14: 44456 | H14: 44470 | I14: 44357 | J14: 44368 | K14: 44361 | L14: 44477 | M14: 44375 | N14: X | O14: 44389 | P14: 44385 | Q14: 44396 | R14: =(COUNTA(B14:Q14))-1 -> 14 | S14: =N18+R14 -> 28
A15: =Spelerslijst!C17 -> speler 14 | B15: 44392 | D15: 44392 | E15: 44449 | F15: 44449 | G15: 44477 | H15: 44477 | I15: 44361 | J15: 44371 | K15: 44364 | L15: 44378 | M15: 44381 | N15: 44389 | O15: X | P15: 44396 | R15: =(COUNTA(B15:Q15))-1 -> 13 | S15: =O18+R15 -> 26
A16: =Spelerslijst!C18 -> speler 15 | D16: 44449 | E16: 44463 | F16: 44474 | G16: 44474 | H16: 44361 | I16: 44371 | J16: 44375 | K16: 44378 | M16: 44368 | N16: 44385 | O16: 44396 | P16: X | Q16: 44375 | R16: =(COUNTA(B16:Q16))-1 -> 12 | S16: =P18+R16 -> 24
A17: =Spelerslijst!C19 -> speler 16 | B17: 44396 | C17: 44449 | D17: 44463 | E17: 44463 | F17: 44357 | G17: 44481 | H17: 44371 | I17: 44378 | J17: 44364 | K17: 44389 | L17: 44375 | M17: 44389 | N17: 44396 | P17: 44375 | Q17: X | R17: =(COUNTA(B17:Q17))-1 -> 14 | S17: =Q18+R17 -> 28
B18: =(COUNTA(B2:B17))-1 -> 14 | C18: =(COUNTA(C2:C17))-1 -> 11 | D18: =(COUNTA(D2:D17))-1 -> 14 | E18: =(COUNTA(E2:E17))-1 -> 13 | F18: =(COUNTA(F2:F17))-1 -> 13 | G18: =(COUNTA(G2:G17))-1 -> 14 | H18: =(COUNTA(H2:H17))-1 -> 13 | I18: =(COUNTA(I2:I17))-1 -> 12 | ... Q18: =(COUNTA(Q2:Q17))-1 -> 14
F20: aantal gespeelde partijen | K20: =(COUNTA(B2:Q17)-16)/2 -> 103 | R20: =SUM(R2:R19)/2 -> 103
F21: nog te spelen partijen. | K21: =COUNTBLANK(B2:Q17)/2 -> 17
