Workbook

Sheet Spelerslijst
F2: maandag | G2: donderdag
A3: 1 | B3: A | C3: speler 1 | D3: 1.05 | F3: wel | G3: wel
A4: 2 | B4: B | C4: speler 2 | D4: 0.65 | F4: niet | G4: wel
A5: 3 | B5: C | C5: speler 3 | D5: 0.83 | F5: wel | G5: wel
A6: 4 | B6: D | C6: speler 4 | D6: 1.23 | F6: wel | G6: wel
A7: 5 | B7: E | C7: speler 5 | D7: 0.62 | F7: wel | G7: wel
A8: 6 | B8: F | C8: speler 6 | D8: 0.95 | F8: wel | G8: wel
A9: 7 | B9: G | C9: speler 7 | D9: 1.24 | F9: wel | G9: wel
A10: 8 | B10: H | C10: speler 8 | D10: 0.79 | F10: wel | G10: wel
A11: 9 | B11: I | C11: speler 9 | D11: 0.94 | F11: wel | G11: wel
A12: 10 | B12: J | C12: speler 10 | D12: 1.18 | F12: wel | G12: wel
A13: 11 | B13: K | C13: speler 11 | D13: 0.67 | F13: wel | G13: wel
A14: 12 | B14: L | C14: speler 12 | D14: 0.86 | F14: wel | G14: wel
... A19: 17 | B19: Q | C19: speler 16 | D19: 2.14 | F19: wel | G19: wel
A20: 18 | B20: R | C20: vrij
A21: 19 | B21: S | C21: S
A22: 20 | B22: T | C22: T
A23: 21 | B23: U | C23: U
A24: 22 | B24: V | C24: V
A25: 23 | B25: W | C25: W
A26: 24 | B26: X | C26: X
A27: 25 | B27: Y | C27: Y
A28: 26 | B28: Z | C28: Z

Sheet 18 spelers
A1: Wedstrijdschema Coronacompetitie Heujmansbelt
A2: 17 personen
A4: wedstr. nr. | B4: datum | C4: tijd | D4: nr. in ronde | F4: car. | G4: beurt | H4: punt | J4: naam speler | K4: car. | L4: beurt | M4: punt | AG4: uitgangsschema
A6: 1 | B6: 44084 | C6: 19.30 | D6: 2 | E6: =Spelerslijst!$C$4 -> speler 2 | F6: 16 | G6: 8 | H6: 4 | I6: =COUNTA(G6:G6) -> 1 | J6: =Spelerslijst!$C$19 -> speler 16 | K6: 12 | L6: 8 | M6: 0 | N6: =COUNTA(L6:L6) -> 1 | AF6: 1 | AG6: 1-18 | AH6: 2-17 | AI6: 3-16 | AJ6: 4-15 | AK6: 5-14 | AL6: 6-13 | AM6: 7-12 | AN6: 8-11 | AO6: 9-10
A7: 13 | B7: 44084 | C7: 19.30 | D7: 3 | E7: =Spelerslijst!$C$17 -> speler 14 | F7: 22 | G7: 24 | H7: 4 | I7: =COUNTA(G7:G7) -> 1 | J7: =Spelerslijst!$C$7 -> speler 5 | K7: 10 | L7: 24 | M7: 2 | N7: =COUNTA(L7:L7) -> 1 | AF7: 2 | AG7: 18-10 | AH7: 11-9 | AI7: 12-8 | AJ7: 13-7 | AK7: 14-6 | AL7: 15-5 | AM7: 16-4 | AN7: 17-3 | AO7: 1-2
A8: 2 | B8: 44084 | C8: 20.00 | D8: 3 | E8: =Spelerslijst!$C$5 -> speler 3 | F8: 18 | G8: 10 | H8: 4 | I8: =COUNTA(G8:G8) -> 1 | J8: =Spelerslijst!$C$18 -> speler 15 | K8: 6 | L8: 10 | M8: 1 | N8: =COUNTA(L8:L8) -> 1 | AF8: 3 | AG8: 2-18 | AH8: 3-1 | AI8: 4-17 | AJ8: 5-16 | AK8: 6-15 | AL8: 7-14 | AM8: 8-13 | AN8: 9-12 | AO8: 10-11
A9: 3 | B9: 44084 | C9: 20.30 | D9: 4 | E9: =Spelerslijst!$C$6 -> speler 4 | F9: 25 | G9: 8 | H9: 4 | I9: =COUNTA(G9:G9) -> 1 | J9: =Spelerslijst!$C$17 -> speler 14 | K9: 7 | L9: 8 | M9: 1 | N9: =COUNTA(L9:L9) -> 1 | AF9: 4 | AG9: 18-11 | AH9: 12-10 | AI9: 13-9 | AJ9: 14-8 | AK9: 15-7 | AL9: 16-6 | AM9: 17-5 | AN9: 1-4 | AO9: 2-3
A10: 4 | B10: 44084 | C10: 21.00 | D10: 5 | E10: =Spelerslijst!$C$7 -> speler 5 | F10: 10 | G10: 18 | H10: 2 | I10: =COUNTA(G10:G10) -> 1 | J10: =Spelerslijst!$C$16 -> speler 13 | K10: 27 | L10: 18 | M10: 4 | N10: =COUNTA(L10:L10) -> 1 | AF10: 5 | AG10: 3-18 | AH10: 4-2 | AI10: 5-1 | AJ10: 6-17 | AK10: 7-16 | AL10: 8-15 | AM10: 9-14 | AN10: 10-13 | AO10: 11-12
A11: 7 | B11: 44091 | C11: 19.30 | D11: 8 | E11: =Spelerslijst!$C$10 -> speler 8 | F11: 17 | G11: 35 | H11: 4 | I11: =COUNTA(G11:G11) -> 1 | J11: =Spelerslijst!$C$13 -> speler 11 | K11: 13 | L11: 35 | M11: 2 | N11: =COUNTA(L11:L11) -> 1 | AF11: 6 | AG11: 18-12 | AH11: 13-11 | AI11: 14-10 | AJ11: 15-9 | AK11: 16-8 | AL11: 17-7 | AM11: 1-6 | AN11: 2-5 | AO11: 3-4
A12: 8 | B12: 44091 | C12: 20.00 | D12: 9 | E12: =Spelerslijst!$C$11 -> speler 9 | F12: 17 | G12: 26 | H12: 3 | I12: =COUNTA(G12:G12) -> 1 | J12: =Spelerslijst!$C$12 -> speler 10 | K12: 24 | L12: 26 | M12: 4 | N12: =COUNTA(L12:L12) -> 1 | AF12: 7 | AG12: 4-18 | AH12: 5-3 | AI12: 6-2 | AJ12: 7-1 | AK12: 8-17 | AL12: 9-16 | AM12: 10-15 | AN12: 11-14 | AO12: 12-13
A13: 9 | B13: 44091 | C13: 20.30 | D13: 7 | E13: =Spelerslijst!$C$13 -> speler 11 | F13: 11 | G13: 25 | H13: 2 | I13: =COUNTA(G13:G13) -> 1 | J13: =Spelerslijst!$C$11 -> speler 9 | K13: 19 | L13: 25 | M13: 4 | N13: =COUNTA(L13:L13) -> 1 | AF13: 8 | AG13: 18-13 | AH13: 14-12 | AI13: 15-11 | AJ13: 16-10 | AK13: 17-9 | AL13: 1-8 | AM13: 2-7 | AN13: 3-6 | AO13: 4-5
A14: 10 | B14: 44091 | C14: 21.00 | D14: 6 | E14: =Spelerslijst!$C$14 -> speler 12 | F14: 18 | G14: 13 | H14: 4 | I14: =COUNTA(G14:G14) -> 1 | J14: =Spelerslijst!$C$10 -> speler 8 | K14: 7 | L14: 13 | M14: 1 | N14: =COUNTA(L14:L14) -> 1 | AF14: 9 | AG14: 5-18 | AH14: 6-4 | AI14: 7-3 | AJ14: 8-2 | AK14: 9-1 | AL14: 10-17 | AM14: 11-16 | AN14: 12-15 | AO14: 13-14
A15: 12 | B15: 44091 | C15: 22.00 | D15: 4 | E15: =Spelerslijst!$C$16 -> speler 13 | F15: 27 | G15: 22 | H15: 4 | I15: =COUNTA(G15:G15) -> 1 | J15: =Spelerslijst!$C$8 -> speler 6 | K15: 13 | L15: 22 | M15: 2 | N15: =COUNTA(L15:L15) -> 1 | AF15: 10 | AG15: 18-14 | AH15: 15-13 | AI15: 16-12 | AJ15: 17-11 | AK15: 1-10 | AL15: 2-9 | AM15: 3-8 | AN15: 4-7 | AO15: 5-6
A16: 14 | B16: 44098 | C16: 20.00 | D16: 2 | E16: =Spelerslijst!$C$18 -> speler 15 | F16: 19 | G16: 21 | H16: 4 | I16: =COUNTA(G16:G16) -> 1 | J16: =Spelerslijst!$C$6 -> speler 4 | K16: 18 | L16: 21 | M16: 2 | N16: =COUNTA(L16:L16) -> 1 | AF16: 11 | AG16: 6-18 | AH16: 7-5 | AI16: 8-4 | AJ16: 9-3 | AK16: 10-2 | AL16: 11-1 | AM16: 12-17 | AN16: 13-16 | AO16: 14-15
A17: 63 | B17: 44098 | C17: 20.00 | D17: 8 | E17: =Spelerslijst!$C$5 -> speler 3 | F17: 17 | G17: 22 | H17: 3 | I17: =COUNTA(G17:G17) -> 1 | J17: =Spelerslijst!$C$8 -> speler 6 | K17: 19 | L17: 22 | M17: 4 | N17: =COUNTA(L17:L17) -> 1 | AF17: 12 | AG17: 18-15 | AH17: 16-14 | AI17: 17-13 | AJ17: 1-12 | AK17: 2-11 | AL17: 3-10 | AM17: 4-9 | AN17: 5-8 | AO17: 6-7
A18: 15 | B18: 44098 | C18: 20.30 | D18: 2 | E18: =Spelerslijst!$C$19 -> speler 16 | F18: 42 | G18: 20 | H18: 3 | I18: =COUNTA(G18:G18) -> 1 | J18: =Spelerslijst!$C$5 -> speler 3 | K18: 18 | L18: 20 | M18: 4 | N18: =COUNTA(L18:L18) -> 1 | AF18: 13 | AG18: 7-18 | AH18: 8-6 | AI18: 9-5 | AJ18: 10-4 | AK18: 11-3 | AL18: 12-2 | AM18: 13-1 | AN18: 14-17 | AO18: 15-16
A19: 16 | B19: 44098 | C19: 21.00 | D19: 3 | E19: =Spelerslijst!$C$3 -> speler 1 | F19: 21 | G19: 14 | H19: 4 | I19: =COUNTA(G19:G19) -> 1 | J19: =Spelerslijst!$C$4 -> speler 2 | K19: 13 | L19: 14 | M19: 2 | N19: =COUNTA(L19:L19) -> 1 | AF19: 14 | AG19: 18-16 | AH19: 17-15 | AI19: 1-14 | AJ19: 2-13 | AK19: 3-12 | AL19: 4-11 | AM19: 5-10 | AN19: 6-9 | AO19: 7-8
A20: 18 | B20: 44098 | C20: 22.00 | D20: 6 | E20: =Spelerslijst!$C$6 -> speler 4 | F20: 14 | G20: 11 | H20: 1 | I20: =COUNTA(G20:G20) -> 1 | J20: =Spelerslijst!$C$19 -> speler 16 | K20: 43 | L20: 11 | M20: 4 | N20: =COUNTA(L20:L20) -> 1 | AF20: 15 | AG20: 8-18 | AH20: 9-7 | AI20: 10-6 | AJ20: 11-5 | AK20: 12-4 | AL20: 13-3 | AM20: 14-2 | AN20: 15-1 | AO20: 16-17
A21: 21 | B21: 44105 | C21: 19.00 | D21: 9 | E21: =Spelerslijst!$C$9 -> speler 7 | F21: 6 | G21: 10 | H21: 0 | I21: =COUNTA(G21:G21) -> 1 | J21: =Spelerslijst!$C$16 -> speler 13 | K21: 27 | L21: 10 | M21: 4 | N21: =COUNTA(L21:L21) -> 1 | AF21: 16 | AG21: 18-17 | AH21: 1-16 | AI21: 2-15 | AJ21: 3-14 | AK21: 4-13 | AL21: 5-12 | AM21: 6-11 | AN21: 7-10 | AO21: 8-9
A22: 23 | B22: 44105 | C22: 19.30 | D22: 8 | E22: =Spelerslijst!$C$11 -> speler 9 | F22: 19 | G22: 26 | H22: 4 | I22: =COUNTA(G22:G22) -> 1 | J22: =Spelerslijst!$C$14 -> speler 12 | K22: 18 | L22: 26 | M22: 4 | N22: =COUNTA(L22:L22) -> 1 | AF22: 17 | AG22: 9-18 | AH22: 10-8 | AI22: 11-7 | AJ22: 12-6 | AK22: 13-5 | AL22: 14-4 | AM22: 15-3 | AN22: 16-2 | AO22: 17-1
A23: 24 | B23: 44105 | C23: 20.00 | D23: 7 | E23: =Spelerslijst!$C$12 -> speler 10 | F23: 24 | G23: 23 | H23: 4 | I23: =COUNTA(G23:G23) -> 1 | J23: =Spelerslijst!$C$13 -> speler 11 | K23: 13 | L23: 23 | M23: 2 | N23: =COUNTA(L23:L23) -> 1
A24: 6 | B24: 44105 | C24: 20.30 | D24: 7 | E24: =Spelerslijst!$C$9 -> speler 7 | F24: 20 | G24: 20 | H24: 2 | I24: =COUNTA(G24:G24) -> 1 | J24: =Spelerslijst!$C$14 -> speler 12 | K24: 18 | L24: 20 | M24: 4 | N24: =COUNTA(L24:L24) -> 1
A25: 17 | B25: 44105 | C25: 20.30 | D25: 5 | E25: =Spelerslijst!$C$5 -> speler 3 | F25: 14 | G25: 13 | H25: 2 | I25: =COUNTA(G25:G25) -> 1 | J25: =Spelerslijst!$C$3 -> speler 1 | K25: 21 | L25: 13 | M25: 4 | N25: =COUNTA(L25:L25) -> 1
A26: 19 | B26: 44109 | C26: 19.00 | D26: 7 | E26: =Spelerslijst!$C$7 -> speler 5 | F26: 16 | G26: 20 | H26: 4 | I26: =COUNTA(G26:G26) -> 1 | J26: =Spelerslijst!$C$18 -> speler 15 | K26: 8 | L26: 20 | M26: 1 | N26: =COUNTA(L26:L26) -> 1
A27: 25 | B27: 44109 | C27: 19.00 | D27: 5 | E27: =Spelerslijst!$C$14 -> speler 12 | F27: 15 | G27: 19 | H27: 2 | I27: =COUNTA(G27:G27) -> 1 | J27: =Spelerslijst!$C$12 -> speler 10 | K27: 24 | L27: 19 | M27: 4 | N27: =COUNTA(L27:L27) -> 1
A28: 29 | B28: 44109 | C28: 20.30 | D28: 2 | E28: =Spelerslijst!$C$18 -> speler 15 | F28: 19 | G28: 23 | H28: 4 | I28: =COUNTA(G28:G28) -> 1 | J28: =Spelerslijst!$C$8 -> speler 6 | K28: 15 | L28: 23 | M28: 2 | N28: =COUNTA(L28:L28) -> 1
A29: 20 | B29: 44112 | C29: 19.30 | D29: 8 | E29: =Spelerslijst!$C$8 -> speler 6 | F29: 15 | G29: 17 | H29: 2 | I29: =COUNTA(G29:G29) -> 1 | J29: =Spelerslijst!$C$17 -> speler 14 | K29: 22 | L29: 17 | M29: 4 | N29: =COUNTA(L29:L29) -> 1
A30: 28 | B30: 44112 | C30: 20.00 | D30: 2 | E30: =Spelerslijst!$C$17 -> speler 14 | F30: 14 | G30: 20 | H30: 2 | I30: =COUNTA(G30:G30) -> 1 | J30: =Spelerslijst!$C$9 -> speler 7 | K30: 25 | L30: 20 | M30: 4 | N30: =COUNTA(L30:L30) -> 1
A31: 33 | B31: 44112 | C31: 20.30 | D31: 7 | E31: =Spelerslijst!$C$6 -> speler 4 | F31: 25 | G31: 22 | H31: 4 | I31: =COUNTA(G31:G31) -> 1 | J31: =Spelerslijst!$C$4 -> speler 2 | K31: 8 | L31: 22 | M31: 1 | N31: =COUNTA(L31:L31) -> 1
A32: 55 | B32: 44112 | C32: 20.30 | D32: 4 | E32: =Spelerslijst!$C$13 -> speler 11 | F32: 9 | G32: 21 | H32: 1 | I32: =COUNTA(G32:G32) -> 1 | J32: =Spelerslijst!$C$16 -> speler 13 | K32: 27 | L32: 21 | M32: 4 | N32: =COUNTA(L32:L32) -> 1
A33: 35 | B33: 44116 | C33: 19.00 | D33: 9 | E33: =Spelerslijst!$C$8 -> speler 6 | F33: 14 | G33: 22 | H33: 2 | I33: =COUNTA(G33:G33) -> 1 | J33: =Spelerslijst!$C$19 -> speler 16 | K33: 43 | L33: 22 | M33: 4 | N33: =COUNTA(L33:L33) -> 1
A34: 31 | B34: 44116 | C34: 20.30 | D34: 4 | E34: =Spelerslijst!$C$3 -> speler 1 | F34: 21 | G34: 15 | H34: 4 | I34: =COUNTA(G34:G34) -> 1 | J34: =Spelerslijst!$C$6 -> speler 4 | K34: 25 | L34: 15 | M34: 3 | N34: =COUNTA(L34:L34) -> 1
A35: 30 | B35: 44357 | C35: 19.00 | D35: 3 | E35: =Spelerslijst!$C$19 -> speler 16 | F35: 43 | G35: 16 | H35: 4 | I35: =COUNTA(G35:G35) -> 1 | J35: =Spelerslijst!$C$7 -> speler 5 | K35: 16 | L35: 16 | M35: 4 | N35: =COUNTA(L35:L35) -> 1
A36: 27 | B36: 44357 | C36: 19.30 | D36: 3 | E36: =Spelerslijst!$C$16 -> speler 13 | F36: 27 | G36: 14 | H36: 4 | I36: =COUNTA(G36:G36) -> 1 | J36: =Spelerslijst!$C$10 -> speler 8 | K36: 12 | L36: 14 | M36: 2 | N36: =COUNTA(L36:L36) -> 1
A37: 51 | B37: 44357 | C37: 20.00 | D37: 8 | E37: =Spelerslijst!$C$9 -> speler 7 | F37: 25 | G37: 24 | H37: 4 | I37: =COUNTA(G37:G37) -> 1 | J37: =Spelerslijst!$C$3 -> speler 1 | K37: 14 | L37: 24 | M37: 2 | N37: =COUNTA(L37:L37) -> 1
A38: 93 | B38: 44357 | C38: 20.30 | D38: 5 | E38: =Spelerslijst!$C$5 -> speler 3 | F38: 9 | G38: 20 | H38: 1 | I38: =COUNTA(G38:G38) -> 1 | J38: =Spelerslijst!$C$12 -> speler 10 | K38: 24 | L38: 20 | M38: 4 | N38: =COUNTA(L38:L38) -> 1
A39: 111 | B39: 44357 | C39: 21.00 | D39: 2 | E39: =Spelerslijst!$C$8 -> speler 6 | F39: 18 | G39: 19 | H39: 3 | I39: =COUNTA(G39:G39) -> 1 | J39: =Spelerslijst!$C$11 -> speler 9 | K39: 19 | L39: 19 | M39: 4 | N39: =COUNTA(L39:L39) -> 1
A40: 36 | B40: 44361 | D40: 9 | E40: =Spelerslijst!$C$9 -> speler 7 | F40: 25 | G40: 17 | H40: 4 | I40: =COUNTA(G40:G40) -> 1 | J40: =Spelerslijst!$C$18 -> speler 15 | K40: 9 | L40: 17 | M40: 1 | N40: =COUNTA(L40:L40) -> 1
A41: 37 | B41: 44361 | D41: 8 | E41: =Spelerslijst!$C$10 -> speler 8 | F41: 17 | G41: 13 | H41: 4 | I41: =COUNTA(G41:G41) -> 1 | J41: =Spelerslijst!$C$17 -> speler 14 | K41: 16 | L41: 13 | M41: 2 | N41: =COUNTA(L41:L41) -> 1
A42: 40 | B42: 44361 | D42: 5 | E42: =Spelerslijst!$C$13 -> speler 11 | F42: 5 | G42: 19 | H42: 1 | I42: =COUNTA(G42:G42) -> 1 | J42: =Spelerslijst!$C$14 -> speler 12 | K42: 18 | L42: 19 | M42: 4 | N42: =COUNTA(L42:L42) -> 1
...

Sheet gespeeld
B1: =Spelerslijst!C3 -> speler 1 | C1: =Spelerslijst!C4 -> speler 2 | D1: =A4 -> speler 3 | E1: =A5 -> speler 4 | F1: =A6 -> speler 5 | G1: =A7 -> speler 6 | H1: =A8 -> speler 7 | I1: =A9 -> speler 8 | J1: =A10 -> speler 9 | K1: =A11 -> speler 10 | L1: =A12 -> speler 11 | M1: =A13 -> speler 12 | N1: =A14 -> speler 13 | O1: =A15 -> speler 14 | P1: =A16 -> speler 15 | Q1: =A17 -> speler 16
A2: =Spelerslijst!C3 -> speler 1 | B2: X | C2: 44463 | D2: 44470 | E2: 44481 | F2: 44364 | G2: 44375 | H2: 44357 | I2: 44368 | J2: 44378 | K2: 44381 | L2: 44381 | M2: 44389 | N2: 44392 | O2: 44392 | Q2: 44396 | R2: =(COUNTA(B2:Q2))-1 -> 14 | S2: =B18+R2 -> 28
A3: =Spelerslijst!C4 -> speler 2 | B3: 44463 | C3: X | D3: 44364 | E3: 44477 | F3: 44378 | G3: 44385 | H3: 44385 | K3: 44392 | L3: 44364 | M3: 44371 | N3: 44378 | Q3: 44449 | R3: =(COUNTA(B3:Q3))-1 -> 11 | S3: =C18+R3 -> 22
A4: =Spelerslijst!C5 -> speler 3 | B4: 44470 | C4: 44364 | D4: X | E4: 44378 | F4: 44375 | G4: 44463 | H4: 44368 | I4: 44385 | J4: 44392 | K4: 44357 | L4: 44371 | M4: 44389 | O4: 44392 | P4: 44449 | Q4: 44463 | R4: =(COUNTA(B4:Q4))-1 -> 14 | S4: =D18+R4 -> 28
A5: =Spelerslijst!C6 -> speler 4 | B5: 44481 | C5: 44477 | D5: 44378 | E5: X | F5: 44396 | G5: 44361 | H5: 44381 | I5: 44381 | J5: 44389 | K5: 44375 | N5: 44385 | O5: 44449 | P5: 44463 | Q5: 44463 | R5: =(COUNTA(B5:Q5))-1 -> 13 | S5: =E18+R5 -> 26
A6: =Spelerslijst!C7 -> speler 5 | B6: 44364 | C6: 44378 | D6: 44375 | E6: 44396 | F6: X | G6: 44396 | H6: 44396 | I6: 44361 | J6: 44381 | L6: 44385 | N6: 44449 | O6: 44449 | P6: 44474 | Q6: 44357 | R6: =(COUNTA(B6:Q6))-1 -> 13 | S6: =F18+R6 -> 26
A7: =Spelerslijst!C8 -> speler 6 | B7: 44375 | C7: 44385 | D7: 44463 | E7: 44361 | F7: 44396 | G7: X | H7: 44392 | I7: 44381 | J7: 44357 | K7: 44368 | L7: 44389 | N7: 44456 | O7: 44477 | P7: 44474 | Q7: 44481 | R7: =(COUNTA(B7:Q7))-1 -> 14 | S7: =G18+R7 -> 28
A8: =Spelerslijst!C9 -> speler 7 | B8: 44357 | C8: 44385 | D8: 44368 | E8: 44381 | F8: 44396 | G8: 44392 | H8: X | I8: 44378 | J8: 44396 | M8: 44470 | N8: 44470 | O8: 44477 | P8: 44361 | Q8: 44371 | R8: =(COUNTA(B8:Q8))-1 -> 13 | S8: =H18+R8 -> 26
A9: =Spelerslijst!C10 -> speler 8 | B9: 44368 | D9: 44385 | E9: 44381 | F9: 44361 | G9: 44381 | H9: 44378 | I9: X | L9: 44456 | M9: 44456 | N9: 44357 | O9: 44361 | P9: 44371 | Q9: 44378 | R9: =(COUNTA(B9:Q9))-1 -> 12 | S9: =I18+R9 -> 24
A10: =Spelerslijst!C11 -> speler 9 | B10: 44378 | D10: 44392 | E10: 44389 | F10: 44381 | G10: 44357 | H10: 44396 | J10: X | K10: 44456 | L10: 44456 | M10: 44470 | N10: 44368 | O10: 44371 | P10: 44375 | Q10: 44364 | R10: =(COUNTA(B10:Q10))-1 -> 13 | S10: =J18+R10 -> 26
A11: =Spelerslijst!C12 -> speler 10 | B11: 44381 | C11: 44392 | D11: 44357 | E11: 44375 | G11: 44368 | J11: 44456 | K11: X | L11: 44470 | M11: 44474 | N11: 44361 | O11: 44364 | P11: 44378 | Q11: 44389 | R11: =(COUNTA(B11:Q11))-1 -> 12 | S11: =K18+R11 -> 24
A12: =Spelerslijst!C13 -> speler 11 | B12: 44381 | C12: 44364 | D12: 44371 | F12: 44385 | G12: 44389 | I12: 44456 | J12: 44456 | K12: 44470 | L12: X | M12: 44361 | N12: 44477 | O12: 44378 | Q12: 44375 | R12: =(COUNTA(B12:Q12))-1 -> 12 | S12: =L18+R12 -> 24
A13: =Spelerslijst!C14 -> speler 12 | B13: 44389 | C13: 44371 | D13: 44389 | H13: 44470 | I13: 44456 | J13: 44470 | K13: 44474 | L13: 44361 | M13: X | N13: 44375 | O13: 44381 | P13: 44368 | Q13: 44389 | R13: =(COUNTA(B13:Q13))-1 -> 12 | S13: =M18+R13 -> 24
A14: =Spelerslijst!C16 -> speler 13 | B14: 44392 | C14: 44378 | E14: 44385 | F14: 44449 | G14: 44456 | H14: 44470 | I14: 44357 | J14: 44368 | K14: 44361 | L14: 44477 | M14: 44375 | N14: X | O14: 44389 | P14: 44385 | Q14: 44396 | R14: =(COUNTA(B14:Q14))-1 -> 14 | S14: =N18+R14 -> 28
A15: =Spelerslijst!C17 -> speler 14 | B15: 44392 | D15: 44392 | E15: 44449 | F15: 44449 | G15: 44477 | H15: 44477 | I15: 44361 | J15: 44371 | K15: 44364 | L15: 44378 | M15: 44381 | N15: 44389 | O15: X | P15: 44396 | R15: =(COUNTA(B15:Q15))-1 -> 13 | S15: =O18+R15 -> 26
A16: =Spelerslijst!C18 -> speler 15 | D16: 44449 | E16: 44463 | F16: 44474 | G16: 44474 | H16: 44361 | I16: 44371 | J16: 44375 | K16: 44378 | M16: 44368 | N16: 44385 | O16: 44396 | P16: X | Q16: 44375 | R16: =(COUNTA(B16:Q16))-1 -> 12 | S16: =P18+R16 -> 24
A17: =Spelerslijst!C19 -> speler 16 | B17: 44396 | C17: 44449 | D17: 44463 | E17: 44463 | F17: 44357 | G17: 44481 | H17: 44371 | I17: 44378 | J17: 44364 | K17: 44389 | L17: 44375 | M17: 44389 | N17: 44396 | P17: 44375 | Q17: X | R17: =(COUNTA(B17:Q17))-1 -> 14 | S17: =Q18+R17 -> 28
B18: =(COUNTA(B2:B17))-1 -> 14 | C18: =(COUNTA(C2:C17))-1 -> 11 | D18: =(COUNTA(D2:D17))-1 -> 14 | E18: =(COUNTA(E2:E17))-1 -> 13 | F18: =(COUNTA(F2:F17))-1 -> 13 | G18: =(COUNTA(G2:G17))-1 -> 14 | H18: =(COUNTA(H2:H17))-1 -> 13 | I18: =(COUNTA(I2:I17))-1 -> 12 | ... Q18: =(COUNTA(Q2:Q17))-1 -> 14
F20: aantal gespeelde partijen | K20: =(COUNTA(B2:Q17)-16)/2 -> 103 | R20: =SUM(R2:R19)/2 -> 103
F21: nog te spelen partijen. | K21: =COUNTBLANK(B2:Q17)/2 -> 17
